View In:
ArcGIS JavaScript
ArcGIS Online Map Viewer
ArcGIS Earth
Service Description: 1938 "Residential Security Map" of MIlwaukee County, Wisconsin that serves as an historical example of redlining practices
Name: historical_map/Redlining_1938
Description: 1938 "Residential Security Map" of MIlwaukee County, Wisconsin that serves as an historical example of redlining practices
Single Fused Map Cache: false
Extent:
XMin: -9808337.924322948
YMin: 5294146.207889183
XMax: -9775479.464022947
YMax: 5343259.4837631835
Spatial Reference: 102100
(3857)
LatestVCSWkid(0)
Initial Extent:
XMin: -9808337.924322948
YMin: 5294146.207889183
XMax: -9775479.464022947
YMax: 5343259.4837631835
Spatial Reference: 102100
(3857)
LatestVCSWkid(0)
Full Extent:
XMin: -9808337.924322948
YMin: 5294146.207889183
XMax: -9775479.464022947
YMax: 5343259.4837631835
Spatial Reference: 102100
(3857)
LatestVCSWkid(0)
Pixel Size X: 3.1145460000000362
Pixel Size Y: 3.114546000000003
Band Count: 4
Pixel Type: U8
RasterFunction Infos: {"rasterFunctionInfos": [{
"name": "None",
"description": "",
"help": ""
}]}
Mensuration Capabilities: Basic
Inspection Capabilities:
Has Histograms: true
Has Colormap: false
Has Multi Dimensions : false
Rendering Rule:
Min Scale: 0
Max Scale: 0
Copyright Text: Robert K. Nelson, LaDale Winling, Richard Marciano, Nathan Connolly, et al., “Mapping Inequality,” American Panorama, ed. Robert K. Nelson and Edward L. Ayers
accessed September 9, 2020
https://dsl.richmond.edu/panorama/redlining/#loc=11/43.048/-88.133&text=downloads
original map prepared by "Division of Research and Statistics" in cooperation with the Home Owners' Loan Corporation
Service Data Type: esriImageServiceDataTypeGeneric
Min Values: 1, 1, 1, 255
Max Values: 255, 255, 255, 255
Mean Values: 217.02222610963906, 216.80111147936464, 205.9937219929003, 255
Standard Deviation Values: 66.18921362310833, 64.77117472408102, 76.19985113412626, 0
Object ID Field:
Fields:
None
Default Mosaic Method: Center
Allowed Mosaic Methods:
SortField:
SortValue: null
Mosaic Operator: First
Default Compression Quality: 75
Default Resampling Method: Bilinear
Max Record Count: null
Max Image Height: 4100
Max Image Width: 15000
Max Download Image Count: null
Max Mosaic Image Count: null
Allow Raster Function: true
Allow Copy: true
Allow Analysis: true
Allow Compute TiePoints: false
Supports Statistics: false
Supports Advanced Queries: false
Use StandardizedQueries: true
Raster Type Infos:
Name: Raster Dataset
Description: Supports all ArcGIS Raster Datasets
Help:
Has Raster Attribute Table: false
Edit Fields Info: null
Ownership Based AccessControl For Rasters: null
Child Resources:
Info
Histograms
Statistics
Key Properties
Legend
Raster Function Infos
Supported Operations:
Export Image
Identify
Measure
Compute Histograms
Compute Statistics Histograms
Get Samples
Compute Class Statistics
Query Boundary
Compute Pixel Location
Compute Angles
Validate
Project