{ "currentVersion": 11.2, "serviceDescription": "
1938 \"Residential Security Map\" of MIlwaukee County, Wisconsin that serves as an historical example of redlining practices<\/SPAN><\/P><\/DIV><\/DIV>",
"name": "historical_map/Redlining_1938",
"description": " 1938 \"Residential Security Map\" of MIlwaukee County, Wisconsin that serves as an historical example of redlining practices<\/SPAN><\/P><\/DIV><\/DIV>",
"extent": {
"xmin": -9808337.924322948,
"ymin": 5294146.207889183,
"xmax": -9775479.464022947,
"ymax": 5343259.4837631835,
"spatialReference": {
"wkid": 102100,
"latestWkid": 3857
}
},
"initialExtent": {
"xmin": -9808337.924322948,
"ymin": 5294146.207889183,
"xmax": -9775479.464022947,
"ymax": 5343259.4837631835,
"spatialReference": {
"wkid": 102100,
"latestWkid": 3857
}
},
"fullExtent": {
"xmin": -9808337.924322948,
"ymin": 5294146.207889183,
"xmax": -9775479.464022947,
"ymax": 5343259.4837631835,
"spatialReference": {
"wkid": 102100,
"latestWkid": 3857
}
},
"sortableFields": "",
"bandCount": 4,
"pixelType": "U8",
"minValues": [
1,
1,
1,
255
],
"maxValues": [
255,
255,
255,
255
],
"meanValues": [
217.02222610963906,
216.80111147936464,
205.9937219929003,
255
],
"stdvValues": [
66.18921362310833,
64.77117472408102,
76.19985113412626,
0
],
"hasMultidimensions": false,
"pixelSizeX": 3.1145460000000362,
"pixelSizeY": 3.114546000000003,
"meanPixelSize": 3.1145460000000194,
"datasetFormat": "FGDBR",
"uncompressedSize": 665409600,
"blockWidth": 128,
"blockHeight": 128,
"compressionType": "LZ77",
"bandNames": [
"Band_1",
"Band_2",
"Band_3",
"Band_4"
],
"allowCopy": true,
"allowAnalysis": true,
"itemAccess": false,
"inspectionCapabilities": "",
"minPixelSize": 0,
"maxPixelSize": 0,
"copyrightText": "Robert K. Nelson, LaDale Winling, Richard Marciano, Nathan Connolly, et al., \u201cMapping Inequality,\u201d American Panorama, ed. Robert K. Nelson and Edward L. Ayers\naccessed September 9, 2020\nhttps://dsl.richmond.edu/panorama/redlining/#loc=11/43.048/-88.133&text=downloads\n\noriginal map prepared by \"Division of Research and Statistics\" in cooperation with the Home Owners' Loan Corporation",
"serviceDataType": "esriImageServiceDataTypeGeneric",
"serviceSourceType": "esriImageServiceSourceTypeDataset",
"objectIdField": "",
"fields": [],
"capabilities": "Image,Metadata,Mensuration",
"defaultMosaicMethod": "Center",
"allowedMosaicMethods": "",
"sortField": "",
"sortValue": null,
"sortAscending": true,
"mosaicOperator": "First",
"defaultCompressionQuality": 75,
"defaultResamplingMethod": "Bilinear",
"maxImageHeight": 4100,
"maxImageWidth": 15000,
"allowRasterFunction": true,
"rasterFunctionInfos": [
{
"name": "None",
"description": "",
"help": ""
}
],
"rasterTypeInfos": [
{
"name": "Raster Dataset",
"description": "Supports all ArcGIS Raster Datasets",
"help": ""
}
],
"mensurationCapabilities": "Basic",
"hasHistograms": true,
"hasColormap": false,
"hasRasterAttributeTable": false,
"minScale": 0,
"maxScale": 0,
"exportTilesAllowed": false,
"supportsStatistics": false,
"supportsAdvancedQueries": false,
"editFieldsInfo": null,
"ownershipBasedAccessControlForRasters": null,
"allowComputeTiePoints": false,
"useStandardizedQueries": true,
"advancedQueryCapabilities": {
"useStandardizedQueries": true,
"supportsStatistics": false,
"supportsOrderBy": false,
"supportsDistinct": false,
"supportsPagination": false
},
"spatialReference": {
"wkid": 102100,
"latestWkid": 3857
}
}