View In:
ArcGIS JavaScript
ArcGIS Online Map Viewer
ArcGIS Earth
Service Description: Digital Elevation Model derived from LIDAR captured in 2015.
Name: elevation/dem_2015
Description: Digital Elevation Model derived from LIDAR captured in 2015.
Single Fused Map Cache: false
Extent:
XMin: 2483463.4818635457
YMin: 309993.8158002692
XMax: 2553468.4818635457
YMax: 445008.8158002692
Spatial Reference: 103191
(6609)
LatestVCSWkid(0)
Initial Extent:
XMin: 2483463.4818635457
YMin: 309993.8158002692
XMax: 2553468.4818635457
YMax: 445008.8158002692
Spatial Reference: 103191
(6609)
LatestVCSWkid(0)
Full Extent:
XMin: 2483463.4818635457
YMin: 309993.8158002692
XMax: 2553468.4818635457
YMax: 445008.8158002692
Spatial Reference: 103191
(6609)
LatestVCSWkid(0)
Pixel Size X: 5.0
Pixel Size Y: 5.0
Band Count: 1
Pixel Type: F32
RasterFunction Infos: {"rasterFunctionInfos": [{
"name": "None",
"description": "",
"help": ""
}]}
Mensuration Capabilities: Basic
Inspection Capabilities:
Has Histograms: true
Has Colormap: false
Has Multi Dimensions : false
Rendering Rule:
Min Scale: 0
Max Scale: 0
Copyright Text: Milwaukee County Land Information Office
Service Data Type: esriImageServiceDataTypeGeneric
Min Values: 458.1107482910156
Max Values: 991.7724609375
Mean Values: 711.7433654060605
Standard Deviation Values: 54.70298859711698
Object ID Field:
Fields:
None
Default Mosaic Method: Center
Allowed Mosaic Methods:
SortField:
SortValue: null
Mosaic Operator: First
Default Compression Quality: 75
Default Resampling Method: Bilinear
Max Record Count: null
Max Image Height: 4100
Max Image Width: 15000
Max Download Image Count: null
Max Mosaic Image Count: null
Allow Raster Function: true
Allow Copy: true
Allow Analysis: true
Allow Compute TiePoints: false
Supports Statistics: false
Supports Advanced Queries: false
Use StandardizedQueries: true
Raster Type Infos:
Name: Raster Dataset
Description: Supports all ArcGIS Raster Datasets
Help:
Has Raster Attribute Table: false
Edit Fields Info: null
Ownership Based AccessControl For Rasters: null
Child Resources:
Info
Histograms
Statistics
Key Properties
Legend
Raster Function Infos
Supported Operations:
Export Image
Identify
Measure
Compute Histograms
Compute Statistics Histograms
Get Samples
Compute Class Statistics
Query Boundary
Compute Pixel Location
Compute Angles
Validate
Project