{ "currentVersion": 11.2, "serviceDescription": "
Digital Elevation Model derived from LIDAR captured in 2015.<\/SPAN><\/P><\/DIV>",
"name": "elevation/dem_2015",
"description": " Digital Elevation Model derived from LIDAR captured in 2015.<\/SPAN><\/P><\/DIV>",
"extent": {
"xmin": 2483463.4818635457,
"ymin": 309993.8158002692,
"xmax": 2553468.4818635457,
"ymax": 445008.8158002692,
"spatialReference": {
"wkid": 103191,
"latestWkid": 6609
}
},
"initialExtent": {
"xmin": 2483463.4818635457,
"ymin": 309993.8158002692,
"xmax": 2553468.4818635457,
"ymax": 445008.8158002692,
"spatialReference": {
"wkid": 103191,
"latestWkid": 6609
}
},
"fullExtent": {
"xmin": 2483463.4818635457,
"ymin": 309993.8158002692,
"xmax": 2553468.4818635457,
"ymax": 445008.8158002692,
"spatialReference": {
"wkid": 103191,
"latestWkid": 6609
}
},
"sortableFields": "",
"bandCount": 1,
"pixelType": "F32",
"minValues": [
458.1107482910156
],
"maxValues": [
991.7724609375
],
"meanValues": [
711.7433654060605
],
"stdvValues": [
54.70298859711698
],
"hasMultidimensions": false,
"pixelSizeX": 5,
"pixelSizeY": 5,
"meanPixelSize": 1.5240030480060962,
"datasetFormat": "FGDBR",
"uncompressedSize": 1512276012,
"blockWidth": 128,
"blockHeight": 128,
"compressionType": "LZ77",
"bandNames": [
"Band_1"
],
"allowCopy": true,
"allowAnalysis": true,
"itemAccess": false,
"inspectionCapabilities": "",
"minPixelSize": 0,
"maxPixelSize": 0,
"copyrightText": "Milwaukee County Land Information Office",
"serviceDataType": "esriImageServiceDataTypeGeneric",
"serviceSourceType": "esriImageServiceSourceTypeDataset",
"objectIdField": "",
"fields": [],
"capabilities": "Image,Metadata,Mensuration",
"defaultMosaicMethod": "Center",
"allowedMosaicMethods": "",
"sortField": "",
"sortValue": null,
"sortAscending": true,
"mosaicOperator": "First",
"defaultCompressionQuality": 75,
"defaultResamplingMethod": "Bilinear",
"maxImageHeight": 4100,
"maxImageWidth": 15000,
"allowRasterFunction": true,
"rasterFunctionInfos": [
{
"name": "None",
"description": "",
"help": ""
}
],
"rasterTypeInfos": [
{
"name": "Raster Dataset",
"description": "Supports all ArcGIS Raster Datasets",
"help": ""
}
],
"mensurationCapabilities": "Basic",
"hasHistograms": true,
"hasColormap": false,
"hasRasterAttributeTable": false,
"minScale": 0,
"maxScale": 0,
"exportTilesAllowed": false,
"supportsStatistics": false,
"supportsAdvancedQueries": false,
"editFieldsInfo": null,
"ownershipBasedAccessControlForRasters": null,
"allowComputeTiePoints": false,
"useStandardizedQueries": true,
"advancedQueryCapabilities": {
"useStandardizedQueries": true,
"supportsStatistics": false,
"supportsOrderBy": false,
"supportsDistinct": false,
"supportsPagination": false
},
"spatialReference": {
"wkid": 103191,
"latestWkid": 6609
}
}