View In:
ArcGIS JavaScript
ArcGIS Online Map Viewer
ArcGIS Earth
Service Description: 3 inch aerial orthophotography covering Milwaukee County Wisconsin - captured May 2018
Name: aerial/ortho_2018
Description: 3 inch aerial orthophotography covering Milwaukee County Wisconsin - captured May 2018
Single Fused Map Cache: false
Extent:
XMin: 2478463.0
YMin: 310006.0
XMax: 2553463.0
YMax: 445006.0
Spatial Reference: 103191
(6609)
LatestVCSWkid(0)
Initial Extent:
XMin: 2478463.0
YMin: 310006.0
XMax: 2553463.0
YMax: 445006.0
Spatial Reference: 103191
(6609)
LatestVCSWkid(0)
Full Extent:
XMin: 2478463.0
YMin: 310006.0
XMax: 2553463.0
YMax: 445006.0
Spatial Reference: 103191
(6609)
LatestVCSWkid(0)
Pixel Size X: 0.25
Pixel Size Y: 0.25
Band Count: 4
Pixel Type: U8
RasterFunction Infos: {"rasterFunctionInfos": [{
"name": "None",
"description": "",
"help": ""
}]}
Mensuration Capabilities: Basic
Inspection Capabilities:
Has Histograms: true
Has Colormap: false
Has Multi Dimensions : false
Rendering Rule:
Min Scale: 0
Max Scale: 0
Copyright Text: Milwaukee County Land Information Office, Eagle View Technologies/Pictometry International
Service Data Type: esriImageServiceDataTypeGeneric
Min Values: 0, 0, 0, 0
Max Values: 242, 238, 224, 255
Mean Values: 105.73986486486, 98.906941031941, 77.041461916462, 204.23843161343
Standard Deviation Values: 57.855356010886, 51.953227414666, 41.414583321626, 100.81764606082
Object ID Field:
Fields:
None
Default Mosaic Method: Center
Allowed Mosaic Methods:
SortField:
SortValue: null
Mosaic Operator: First
Default Compression Quality: 75
Default Resampling Method: Bilinear
Max Record Count: null
Max Image Height: 4100
Max Image Width: 15000
Max Download Image Count: null
Max Mosaic Image Count: null
Allow Raster Function: true
Allow Copy: true
Allow Analysis: true
Allow Compute TiePoints: false
Supports Statistics: false
Supports Advanced Queries: false
Use StandardizedQueries: true
Raster Type Infos:
Name: Raster Dataset
Description: Supports all ArcGIS Raster Datasets
Help:
Has Raster Attribute Table: false
Edit Fields Info: null
Ownership Based AccessControl For Rasters: null
Child Resources:
Info
Histograms
Statistics
Key Properties
Legend
Raster Function Infos
Supported Operations:
Export Image
Identify
Measure
Compute Histograms
Compute Statistics Histograms
Get Samples
Compute Class Statistics
Query Boundary
Compute Pixel Location
Compute Angles
Validate
Project