{ "currentVersion": 11.2, "serviceDescription": "
3 inch aerial orthophotography covering Milwaukee County Wisconsin - captured May 2018<\/SPAN><\/P><\/DIV><\/DIV><\/DIV>",
"name": "aerial/ortho_2018",
"description": " 3 inch aerial orthophotography covering Milwaukee County Wisconsin - captured May 2018<\/SPAN><\/P><\/DIV><\/DIV><\/DIV>",
"extent": {
"xmin": 2478463,
"ymin": 310006,
"xmax": 2553463,
"ymax": 445006,
"spatialReference": {
"wkid": 103191,
"latestWkid": 6609
}
},
"initialExtent": {
"xmin": 2478463,
"ymin": 310006,
"xmax": 2553463,
"ymax": 445006,
"spatialReference": {
"wkid": 103191,
"latestWkid": 6609
}
},
"fullExtent": {
"xmin": 2478463,
"ymin": 310006,
"xmax": 2553463,
"ymax": 445006,
"spatialReference": {
"wkid": 103191,
"latestWkid": 6609
}
},
"sortableFields": "",
"bandCount": 4,
"pixelType": "U8",
"minValues": [
0,
0,
0,
0
],
"maxValues": [
242,
238,
224,
255
],
"meanValues": [
105.73986486486,
98.906941031941,
77.041461916462,
204.23843161343
],
"stdvValues": [
57.855356010886,
51.953227414666,
41.414583321626,
100.81764606082
],
"hasMultidimensions": false,
"pixelSizeX": 0.25,
"pixelSizeY": 0.25,
"meanPixelSize": 0.07620015240030481,
"datasetFormat": "MrSID",
"uncompressedSize": 648000000000,
"blockWidth": 1024,
"blockHeight": 128,
"compressionType": "Wavelet (MG4)",
"bandNames": [
"Band_1",
"Band_2",
"Band_3",
"Band_4"
],
"allowCopy": true,
"allowAnalysis": true,
"itemAccess": false,
"inspectionCapabilities": "",
"minPixelSize": 0,
"maxPixelSize": 0,
"copyrightText": "Milwaukee County Land Information Office, Eagle View Technologies/Pictometry International",
"serviceDataType": "esriImageServiceDataTypeGeneric",
"serviceSourceType": "esriImageServiceSourceTypeDataset",
"objectIdField": "",
"fields": [],
"capabilities": "Image,Metadata,Mensuration",
"defaultMosaicMethod": "Center",
"allowedMosaicMethods": "",
"sortField": "",
"sortValue": null,
"sortAscending": true,
"mosaicOperator": "First",
"defaultCompressionQuality": 75,
"defaultResamplingMethod": "Bilinear",
"maxImageHeight": 4100,
"maxImageWidth": 15000,
"allowRasterFunction": true,
"rasterFunctionInfos": [
{
"name": "None",
"description": "",
"help": ""
}
],
"rasterTypeInfos": [
{
"name": "Raster Dataset",
"description": "Supports all ArcGIS Raster Datasets",
"help": ""
}
],
"mensurationCapabilities": "Basic",
"hasHistograms": true,
"hasColormap": false,
"hasRasterAttributeTable": false,
"minScale": 0,
"maxScale": 0,
"exportTilesAllowed": false,
"supportsStatistics": false,
"supportsAdvancedQueries": false,
"editFieldsInfo": null,
"ownershipBasedAccessControlForRasters": null,
"allowComputeTiePoints": false,
"useStandardizedQueries": true,
"advancedQueryCapabilities": {
"useStandardizedQueries": true,
"supportsStatistics": false,
"supportsOrderBy": false,
"supportsDistinct": false,
"supportsPagination": false
},
"spatialReference": {
"wkid": 103191,
"latestWkid": 6609
}
}