View In:
ArcGIS JavaScript
ArcGIS Online Map Viewer
ArcGIS Earth
Service Description: color aerial photography covering Milwaukee County - captured spring 2015 - approximate resolution of 3 inches per pixel
Name: aerial/ortho_2015
Description: color aerial photography covering Milwaukee County - captured spring 2015 - approximate resolution of 3 inches per pixel
Single Fused Map Cache: false
Extent:
XMin: 2478462.981874012
YMin: 310006.401259581
XMax: 2553464.060933278
YMax: 445004.9239183052
Spatial Reference: 103191
(6609)
LatestVCSWkid(0)
Initial Extent:
XMin: 2478462.981874012
YMin: 310006.401259581
XMax: 2553464.060933278
YMax: 445004.9239183052
Spatial Reference: 103191
(6609)
LatestVCSWkid(0)
Full Extent:
XMin: 2478462.981874012
YMin: 310006.401259581
XMax: 2553464.060933278
YMax: 445004.9239183052
Spatial Reference: 103191
(6609)
LatestVCSWkid(0)
Pixel Size X: 0.249994430401772
Pixel Size Y: 0.24999587531684864
Band Count: 4
Pixel Type: U8
RasterFunction Infos: {"rasterFunctionInfos": [{
"name": "None",
"description": "",
"help": ""
}]}
Mensuration Capabilities: Basic
Inspection Capabilities:
Has Histograms: true
Has Colormap: false
Has Multi Dimensions : false
Rendering Rule:
Min Scale: 0
Max Scale: 0
Copyright Text:
Service Data Type: esriImageServiceDataTypeGeneric
Min Values: 0, 0, 0, 0
Max Values: 231, 221, 211, 255
Mean Values: 105.79074529075, 95.666871416871, 74.720720720721, 198.69983619984
Standard Deviation Values: 59.973376808517, 53.058368026622, 42.247552165987, 104.52458080959
Object ID Field:
Fields:
None
Default Mosaic Method: Center
Allowed Mosaic Methods:
SortField:
SortValue: null
Mosaic Operator: First
Default Compression Quality: 75
Default Resampling Method: Bilinear
Max Record Count: null
Max Image Height: 4100
Max Image Width: 15000
Max Download Image Count: null
Max Mosaic Image Count: null
Allow Raster Function: true
Allow Copy: true
Allow Analysis: true
Allow Compute TiePoints: false
Supports Statistics: false
Supports Advanced Queries: false
Use StandardizedQueries: true
Raster Type Infos:
Name: Raster Dataset
Description: Supports all ArcGIS Raster Datasets
Help:
Has Raster Attribute Table: false
Edit Fields Info: null
Ownership Based AccessControl For Rasters: null
Child Resources:
Info
Histograms
Statistics
Key Properties
Legend
Raster Function Infos
Supported Operations:
Export Image
Identify
Measure
Compute Histograms
Compute Statistics Histograms
Get Samples
Compute Class Statistics
Query Boundary
Compute Pixel Location
Compute Angles
Validate
Project