{ "currentVersion": 11.2, "serviceDescription": "
color aerial photography covering Milwaukee County - captured spring 2015 - approximate resolution of 3 inches per pixel<\/SPAN><\/P><\/DIV><\/DIV><\/DIV>",
"name": "aerial/ortho_2015",
"description": " color aerial photography covering Milwaukee County - captured spring 2015 - approximate resolution of 3 inches per pixel<\/SPAN><\/P><\/DIV><\/DIV><\/DIV>",
"extent": {
"xmin": 2478462.981874012,
"ymin": 310006.401259581,
"xmax": 2553464.060933278,
"ymax": 445004.9239183052,
"spatialReference": {
"wkid": 103191,
"latestWkid": 6609
}
},
"initialExtent": {
"xmin": 2478462.981874012,
"ymin": 310006.401259581,
"xmax": 2553464.060933278,
"ymax": 445004.9239183052,
"spatialReference": {
"wkid": 103191,
"latestWkid": 6609
}
},
"fullExtent": {
"xmin": 2478462.981874012,
"ymin": 310006.401259581,
"xmax": 2553464.060933278,
"ymax": 445004.9239183052,
"spatialReference": {
"wkid": 103191,
"latestWkid": 6609
}
},
"sortableFields": "",
"bandCount": 4,
"pixelType": "U8",
"minValues": [
0,
0,
0,
0
],
"maxValues": [
231,
221,
211,
255
],
"meanValues": [
105.79074529075,
95.666871416871,
74.720720720721,
198.69983619984
],
"stdvValues": [
59.973376808517,
53.058368026622,
42.247552165987,
104.52458080959
],
"hasMultidimensions": false,
"pixelSizeX": 0.249994430401772,
"pixelSizeY": 0.24999587531684864,
"meanPixelSize": 0.07619867498886777,
"datasetFormat": "MrSID",
"uncompressedSize": 648027360132,
"blockWidth": 1024,
"blockHeight": 128,
"compressionType": "Wavelet (MG4)",
"bandNames": [
"Band_1",
"Band_2",
"Band_3",
"Band_4"
],
"allowCopy": true,
"allowAnalysis": true,
"itemAccess": false,
"inspectionCapabilities": "",
"minPixelSize": 0,
"maxPixelSize": 0,
"copyrightText": "",
"serviceDataType": "esriImageServiceDataTypeGeneric",
"serviceSourceType": "esriImageServiceSourceTypeDataset",
"objectIdField": "",
"fields": [],
"capabilities": "Image,Metadata,Mensuration",
"defaultMosaicMethod": "Center",
"allowedMosaicMethods": "",
"sortField": "",
"sortValue": null,
"sortAscending": true,
"mosaicOperator": "First",
"defaultCompressionQuality": 75,
"defaultResamplingMethod": "Bilinear",
"maxImageHeight": 4100,
"maxImageWidth": 15000,
"allowRasterFunction": true,
"rasterFunctionInfos": [
{
"name": "None",
"description": "",
"help": ""
}
],
"rasterTypeInfos": [
{
"name": "Raster Dataset",
"description": "Supports all ArcGIS Raster Datasets",
"help": ""
}
],
"mensurationCapabilities": "Basic",
"hasHistograms": true,
"hasColormap": false,
"hasRasterAttributeTable": false,
"minScale": 0,
"maxScale": 0,
"exportTilesAllowed": false,
"supportsStatistics": false,
"supportsAdvancedQueries": false,
"editFieldsInfo": null,
"ownershipBasedAccessControlForRasters": null,
"allowComputeTiePoints": false,
"useStandardizedQueries": true,
"advancedQueryCapabilities": {
"useStandardizedQueries": true,
"supportsStatistics": false,
"supportsOrderBy": false,
"supportsDistinct": false,
"supportsPagination": false
},
"spatialReference": {
"wkid": 103191,
"latestWkid": 6609
}
}