View In:
ArcGIS JavaScript
ArcGIS Online Map Viewer
ArcGIS Earth
Service Description: color aerial photography covering Milwaukee County - captured in 2013 - approximate resolution of 4 inches per pixel.
Name: aerial/ortho_2013
Description: color aerial photography covering Milwaukee County - captured in 2013 - approximate resolution of 4 inches per pixel.
Single Fused Map Cache: false
Extent:
XMin: 2479953.970894143
YMin: 304935.5662525274
XMax: 2555041.739393705
YMax: 445000.00004264206
Spatial Reference: 103191
(6609)
LatestVCSWkid(0)
Initial Extent:
XMin: 2479953.970894143
YMin: 304935.5662525274
XMax: 2555041.739393705
YMax: 445000.00004264206
Spatial Reference: 103191
(6609)
LatestVCSWkid(0)
Full Extent:
XMin: 2479953.970894143
YMin: 304935.5662525274
XMax: 2555041.739393705
YMax: 445000.00004264206
Spatial Reference: 103191
(6609)
LatestVCSWkid(0)
Pixel Size X: 0.319994922287642
Pixel Size Y: 0.3199936802680191
Band Count: 4
Pixel Type: U8
RasterFunction Infos: {"rasterFunctionInfos": [{
"name": "None",
"description": "",
"help": ""
}]}
Mensuration Capabilities: Basic
Inspection Capabilities:
Has Histograms: true
Has Colormap: false
Has Multi Dimensions : false
Rendering Rule:
Min Scale: 0
Max Scale: 0
Copyright Text: Milwaukee County Land Information Office
Service Data Type: esriImageServiceDataTypeGeneric
Min Values: 0, 0, 0, 0
Max Values: 255, 255, 255, 255
Mean Values: 112.65372220432, 107.86851434096, 92.675475346439, 225.26909442475
Standard Deviation Values: 55.7814101516, 52.247228773886, 51.21235387786, 79.887617055056
Object ID Field:
Fields:
None
Default Mosaic Method: Center
Allowed Mosaic Methods:
SortField:
SortValue: null
Mosaic Operator: First
Default Compression Quality: 75
Default Resampling Method: Bilinear
Max Record Count: null
Max Image Height: 4100
Max Image Width: 15000
Max Download Image Count: null
Max Mosaic Image Count: null
Allow Raster Function: true
Allow Copy: true
Allow Analysis: true
Allow Compute TiePoints: false
Supports Statistics: false
Supports Advanced Queries: false
Use StandardizedQueries: true
Raster Type Infos:
Name: Raster Dataset
Description: Supports all ArcGIS Raster Datasets
Help:
Has Raster Attribute Table: false
Edit Fields Info: null
Ownership Based AccessControl For Rasters: null
Child Resources:
Info
Histograms
Statistics
Key Properties
Legend
Raster Function Infos
Supported Operations:
Export Image
Identify
Measure
Compute Histograms
Compute Statistics Histograms
Get Samples
Compute Class Statistics
Query Boundary
Compute Pixel Location
Compute Angles
Validate
Project