{ "currentVersion": 11.2, "serviceDescription": "
color aerial photography covering Milwaukee County - captured in 2013 - approximate resolution of 4 inches per pixel.<\/SPAN><\/P><\/DIV>",
"name": "aerial/ortho_2013",
"description": " color aerial photography covering Milwaukee County - captured in 2013 - approximate resolution of 4 inches per pixel.<\/SPAN><\/P><\/DIV>",
"extent": {
"xmin": 2479953.970894143,
"ymin": 304935.5662525274,
"xmax": 2555041.739393705,
"ymax": 445000.00004264206,
"spatialReference": {
"wkid": 103191,
"latestWkid": 6609
}
},
"initialExtent": {
"xmin": 2479953.970894143,
"ymin": 304935.5662525274,
"xmax": 2555041.739393705,
"ymax": 445000.00004264206,
"spatialReference": {
"wkid": 103191,
"latestWkid": 6609
}
},
"fullExtent": {
"xmin": 2479953.970894143,
"ymin": 304935.5662525274,
"xmax": 2555041.739393705,
"ymax": 445000.00004264206,
"spatialReference": {
"wkid": 103191,
"latestWkid": 6609
}
},
"sortableFields": "",
"bandCount": 4,
"pixelType": "U8",
"minValues": [
0,
0,
0,
0
],
"maxValues": [
255,
255,
255,
255
],
"meanValues": [
112.65372220432,
107.86851434096,
92.675475346439,
225.26909442475
],
"stdvValues": [
55.7814101516,
52.247228773886,
51.21235387786,
79.887617055056
],
"hasMultidimensions": false,
"pixelSizeX": 0.319994922287642,
"pixelSizeY": 0.3199936802680191,
"meanPixelSize": 0.09753445809839897,
"datasetFormat": "MrSID",
"uncompressedSize": 410839858520,
"blockWidth": 1024,
"blockHeight": 128,
"compressionType": "Wavelet (MG4)",
"bandNames": [
"Band_1",
"Band_2",
"Band_3",
"Band_4"
],
"allowCopy": true,
"allowAnalysis": true,
"itemAccess": false,
"inspectionCapabilities": "",
"minPixelSize": 0,
"maxPixelSize": 0,
"copyrightText": "Milwaukee County Land Information Office",
"serviceDataType": "esriImageServiceDataTypeGeneric",
"serviceSourceType": "esriImageServiceSourceTypeDataset",
"objectIdField": "",
"fields": [],
"capabilities": "Image,Metadata,Mensuration",
"defaultMosaicMethod": "Center",
"allowedMosaicMethods": "",
"sortField": "",
"sortValue": null,
"sortAscending": true,
"mosaicOperator": "First",
"defaultCompressionQuality": 75,
"defaultResamplingMethod": "Bilinear",
"maxImageHeight": 4100,
"maxImageWidth": 15000,
"allowRasterFunction": true,
"rasterFunctionInfos": [
{
"name": "None",
"description": "",
"help": ""
}
],
"rasterTypeInfos": [
{
"name": "Raster Dataset",
"description": "Supports all ArcGIS Raster Datasets",
"help": ""
}
],
"mensurationCapabilities": "Basic",
"hasHistograms": true,
"hasColormap": false,
"hasRasterAttributeTable": false,
"minScale": 0,
"maxScale": 0,
"exportTilesAllowed": false,
"supportsStatistics": false,
"supportsAdvancedQueries": false,
"editFieldsInfo": null,
"ownershipBasedAccessControlForRasters": null,
"allowComputeTiePoints": false,
"useStandardizedQueries": true,
"advancedQueryCapabilities": {
"useStandardizedQueries": true,
"supportsStatistics": false,
"supportsOrderBy": false,
"supportsDistinct": false,
"supportsPagination": false
},
"spatialReference": {
"wkid": 103191,
"latestWkid": 6609
}
}