View In:
ArcGIS JavaScript
ArcGIS Online Map Viewer
ArcGIS Earth
Service Description: The dataset consists of tiled orthogonal imagery produced from nadir images captured by Pictometry International during the period of April 10th, 2010 to April 23rd, 2010. Automatic aerial triangulation (AAT) was performed. The triangulated frames were rectified to a Pictometry Produced LiDAR derived DEM. Mosaicing was performed using an automatic seaming algorithm and manually edited to eliminate seams through elevated features where possible.
Name: aerial/ortho_2010
Description: The dataset consists of tiled orthogonal imagery produced from nadir images captured by Pictometry International during the period of April 10th, 2010 to April 23rd, 2010. Automatic aerial triangulation (AAT) was performed. The triangulated frames were rectified to a Pictometry Produced LiDAR derived DEM. Mosaicing was performed using an automatic seaming algorithm and manually edited to eliminate seams through elevated features where possible.
Single Fused Map Cache: false
Extent:
XMin: 2480000.0000015497
YMin: 309999.9983896422
XMax: 2554999.9992794674
YMax: 445000.00004264206
Spatial Reference: 103191
(6609)
LatestVCSWkid(0)
Initial Extent:
XMin: 2480000.0000015497
YMin: 309999.9983896422
XMax: 2554999.9992794674
YMax: 445000.00004264206
Spatial Reference: 103191
(6609)
LatestVCSWkid(0)
Full Extent:
XMin: 2480000.0000015497
YMin: 309999.9983896422
XMax: 2554999.9992794674
YMax: 445000.00004264206
Spatial Reference: 103191
(6609)
LatestVCSWkid(0)
Pixel Size X: 0.49999999518611776
Pixel Size Y: 0.5000000061222216
Band Count: 4
Pixel Type: U8
RasterFunction Infos: {"rasterFunctionInfos": [{
"name": "None",
"description": "",
"help": ""
}]}
Mensuration Capabilities: Basic
Inspection Capabilities:
Has Histograms: true
Has Colormap: false
Has Multi Dimensions : false
Rendering Rule:
Min Scale: 0
Max Scale: 0
Copyright Text: Milwaukee County Land Information Office/Pictometry International.
Service Data Type: esriImageServiceDataTypeGeneric
Min Values: 0, 0, 0, 0
Max Values: 255, 255, 255, 255
Mean Values: 90.509725634726, 91.845004095004, 64.501228501228, 198.63093775594
Standard Deviation Values: 49.969074256689, 49.822581763525, 36.580739329479, 105.42583423634
Object ID Field:
Fields:
None
Default Mosaic Method: Center
Allowed Mosaic Methods:
SortField:
SortValue: null
Mosaic Operator: First
Default Compression Quality: 75
Default Resampling Method: Bilinear
Max Record Count: null
Max Image Height: 4100
Max Image Width: 15000
Max Download Image Count: null
Max Mosaic Image Count: null
Allow Raster Function: true
Allow Copy: true
Allow Analysis: true
Allow Compute TiePoints: false
Supports Statistics: false
Supports Advanced Queries: false
Use StandardizedQueries: true
Raster Type Infos:
Name: Raster Dataset
Description: Supports all ArcGIS Raster Datasets
Help:
Has Raster Attribute Table: false
Edit Fields Info: null
Ownership Based AccessControl For Rasters: null
Child Resources:
Info
Histograms
Statistics
Key Properties
Legend
Raster Function Infos
Supported Operations:
Export Image
Identify
Measure
Compute Histograms
Compute Statistics Histograms
Get Samples
Compute Class Statistics
Query Boundary
Compute Pixel Location
Compute Angles
Validate
Project