{ "currentVersion": 11.2, "serviceDescription": "
The dataset consists of tiled orthogonal imagery produced from nadir images captured by Pictometry International during the period of April 10th, 2010 to April 23rd, 2010. Automatic aerial triangulation (AAT) was performed. The triangulated frames were rectified to a Pictometry Produced LiDAR derived DEM. Mosaicing was performed using an automatic seaming algorithm and manually edited to eliminate seams through elevated features where possible.<\/SPAN><\/P><\/DIV><\/DIV><\/DIV>",
"name": "aerial/ortho_2010",
"description": " The dataset consists of tiled orthogonal imagery produced from nadir images captured by Pictometry International during the period of April 10th, 2010 to April 23rd, 2010. Automatic aerial triangulation (AAT) was performed. The triangulated frames were rectified to a Pictometry Produced LiDAR derived DEM. Mosaicing was performed using an automatic seaming algorithm and manually edited to eliminate seams through elevated features where possible.<\/SPAN><\/P><\/DIV><\/DIV><\/DIV>",
"extent": {
"xmin": 2480000.0000015497,
"ymin": 309999.9983896422,
"xmax": 2554999.9992794674,
"ymax": 445000.00004264206,
"spatialReference": {
"wkid": 103191,
"latestWkid": 6609
}
},
"initialExtent": {
"xmin": 2480000.0000015497,
"ymin": 309999.9983896422,
"xmax": 2554999.9992794674,
"ymax": 445000.00004264206,
"spatialReference": {
"wkid": 103191,
"latestWkid": 6609
}
},
"fullExtent": {
"xmin": 2480000.0000015497,
"ymin": 309999.9983896422,
"xmax": 2554999.9992794674,
"ymax": 445000.00004264206,
"spatialReference": {
"wkid": 103191,
"latestWkid": 6609
}
},
"sortableFields": "",
"bandCount": 4,
"pixelType": "U8",
"minValues": [
0,
0,
0,
0
],
"maxValues": [
255,
255,
255,
255
],
"meanValues": [
90.509725634726,
91.845004095004,
64.501228501228,
198.63093775594
],
"stdvValues": [
49.969074256689,
49.822581763525,
36.580739329479,
105.42583423634
],
"hasMultidimensions": false,
"pixelSizeX": 0.49999999518611776,
"pixelSizeY": 0.5000000061222216,
"meanPixelSize": 0.15240030500000096,
"datasetFormat": "MrSID",
"uncompressedSize": 162000000000,
"blockWidth": 1024,
"blockHeight": 128,
"compressionType": "Wavelet (MG4)",
"bandNames": [
"Band_1",
"Band_2",
"Band_3",
"Band_4"
],
"allowCopy": true,
"allowAnalysis": true,
"itemAccess": false,
"inspectionCapabilities": "",
"minPixelSize": 0,
"maxPixelSize": 0,
"copyrightText": "Milwaukee County Land Information Office/Pictometry International.",
"serviceDataType": "esriImageServiceDataTypeGeneric",
"serviceSourceType": "esriImageServiceSourceTypeDataset",
"objectIdField": "",
"fields": [],
"capabilities": "Image,Metadata,Mensuration",
"defaultMosaicMethod": "Center",
"allowedMosaicMethods": "",
"sortField": "",
"sortValue": null,
"sortAscending": true,
"mosaicOperator": "First",
"defaultCompressionQuality": 75,
"defaultResamplingMethod": "Bilinear",
"maxImageHeight": 4100,
"maxImageWidth": 15000,
"allowRasterFunction": true,
"rasterFunctionInfos": [
{
"name": "None",
"description": "",
"help": ""
}
],
"rasterTypeInfos": [
{
"name": "Raster Dataset",
"description": "Supports all ArcGIS Raster Datasets",
"help": ""
}
],
"mensurationCapabilities": "Basic",
"hasHistograms": true,
"hasColormap": false,
"hasRasterAttributeTable": false,
"minScale": 0,
"maxScale": 0,
"exportTilesAllowed": false,
"supportsStatistics": false,
"supportsAdvancedQueries": false,
"editFieldsInfo": null,
"ownershipBasedAccessControlForRasters": null,
"allowComputeTiePoints": false,
"useStandardizedQueries": true,
"advancedQueryCapabilities": {
"useStandardizedQueries": true,
"supportsStatistics": false,
"supportsOrderBy": false,
"supportsDistinct": false,
"supportsPagination": false
},
"spatialReference": {
"wkid": 103191,
"latestWkid": 6609
}
}