View In:
ArcGIS JavaScript
ArcGIS Online Map Viewer
ArcGIS Earth
Service Description: color ortho-rectified vertical aerial photography covering Milwaukee County Wisconsin - captured April 2007 (April 2008 for a downtown Milwaukee) - resolution of 12 inches per pixel
Name: aerial/ortho_2007
Description: color ortho-rectified vertical aerial photography covering Milwaukee County Wisconsin - captured April 2007 (April 2008 for a downtown Milwaukee) - resolution of 12 inches per pixel
Single Fused Map Cache: false
Extent:
XMin: 2483461.481881854
YMin: 305009.8157849091
XMax: 2553464.481881854
YMax: 445008.8157849091
Spatial Reference: 103191
(6609)
LatestVCSWkid(0)
Initial Extent:
XMin: 2483461.481881854
YMin: 305009.8157849091
XMax: 2553464.481881854
YMax: 445008.8157849091
Spatial Reference: 103191
(6609)
LatestVCSWkid(0)
Full Extent:
XMin: 2483461.481881854
YMin: 305009.8157849091
XMax: 2553464.481881854
YMax: 445008.8157849091
Spatial Reference: 103191
(6609)
LatestVCSWkid(0)
Pixel Size X: 1.0
Pixel Size Y: 1.0
Band Count: 3
Pixel Type: U8
RasterFunction Infos: {"rasterFunctionInfos": [{
"name": "None",
"description": "",
"help": ""
}]}
Mensuration Capabilities: Basic
Inspection Capabilities:
Has Histograms: true
Has Colormap: false
Has Multi Dimensions : false
Rendering Rule:
Min Scale: 0
Max Scale: 0
Copyright Text: Aero-Metric, Inc., Southeastern Wisconsin Regional Planning Commission (SEWRPC) - http://maps.sewrpc.org/regionallandinfo/metadata/2007_Orthophotography.htm
Service Data Type: esriImageServiceDataTypeRGB
Min Values: 0, 0, 0
Max Values: 255, 255, 255
Mean Values: 115.51311054243386, 115.99799749962902, 108.25730606996449
Standard Deviation Values: 48.259734002261375, 42.98382508492557, 43.30554155892478
Object ID Field:
Fields:
None
Default Mosaic Method: Center
Allowed Mosaic Methods:
SortField:
SortValue: null
Mosaic Operator: First
Default Compression Quality: 75
Default Resampling Method: Bilinear
Max Record Count: null
Max Image Height: 4100
Max Image Width: 15000
Max Download Image Count: null
Max Mosaic Image Count: null
Allow Raster Function: true
Allow Copy: true
Allow Analysis: true
Allow Compute TiePoints: false
Supports Statistics: false
Supports Advanced Queries: false
Use StandardizedQueries: true
Raster Type Infos:
Name: Raster Dataset
Description: Supports all ArcGIS Raster Datasets
Help:
Has Raster Attribute Table: false
Edit Fields Info: null
Ownership Based AccessControl For Rasters: null
Child Resources:
Info
Histograms
Statistics
Key Properties
Legend
Raster Function Infos
Supported Operations:
Export Image
Identify
Measure
Compute Histograms
Compute Statistics Histograms
Get Samples
Compute Class Statistics
Query Boundary
Compute Pixel Location
Compute Angles
Validate
Project