{ "currentVersion": 11.2, "serviceDescription": "
color ortho-rectified vertical aerial photography covering Milwaukee County Wisconsin - captured April 2007 (April 2008 for a downtown Milwaukee) - resolution of 12 inches per pixel<\/SPAN><\/P><\/DIV><\/DIV><\/DIV>",
"name": "aerial/ortho_2007",
"description": " color ortho-rectified vertical aerial photography covering Milwaukee County Wisconsin - captured April 2007 (April 2008 for a downtown Milwaukee) - resolution of 12 inches per pixel<\/SPAN><\/P><\/DIV><\/DIV><\/DIV>",
"extent": {
"xmin": 2483461.481881854,
"ymin": 305009.8157849091,
"xmax": 2553464.481881854,
"ymax": 445008.8157849091,
"spatialReference": {
"wkid": 103191,
"latestWkid": 6609
}
},
"initialExtent": {
"xmin": 2483461.481881854,
"ymin": 305009.8157849091,
"xmax": 2553464.481881854,
"ymax": 445008.8157849091,
"spatialReference": {
"wkid": 103191,
"latestWkid": 6609
}
},
"fullExtent": {
"xmin": 2483461.481881854,
"ymin": 305009.8157849091,
"xmax": 2553464.481881854,
"ymax": 445008.8157849091,
"spatialReference": {
"wkid": 103191,
"latestWkid": 6609
}
},
"sortableFields": "",
"bandCount": 3,
"pixelType": "U8",
"minValues": [
0,
0,
0
],
"maxValues": [
255,
255,
255
],
"meanValues": [
115.51311054243386,
115.99799749962902,
108.25730606996449
],
"stdvValues": [
48.259734002261375,
42.98382508492557,
43.30554155892478
],
"hasMultidimensions": false,
"pixelSizeX": 1,
"pixelSizeY": 1,
"meanPixelSize": 0.30480060960121924,
"datasetFormat": "FGDBR",
"uncompressedSize": 29401049991,
"blockWidth": 128,
"blockHeight": 128,
"compressionType": "NONE",
"bandNames": [
"Band_1",
"Band_2",
"Band_3"
],
"allowCopy": true,
"allowAnalysis": true,
"itemAccess": false,
"inspectionCapabilities": "",
"minPixelSize": 0,
"maxPixelSize": 0,
"copyrightText": "Aero-Metric, Inc., Southeastern Wisconsin Regional Planning Commission (SEWRPC) - http://maps.sewrpc.org/regionallandinfo/metadata/2007_Orthophotography.htm",
"serviceDataType": "esriImageServiceDataTypeRGB",
"serviceSourceType": "esriImageServiceSourceTypeDataset",
"objectIdField": "",
"fields": [],
"capabilities": "Image,Metadata,Mensuration",
"defaultMosaicMethod": "Center",
"allowedMosaicMethods": "",
"sortField": "",
"sortValue": null,
"sortAscending": true,
"mosaicOperator": "First",
"defaultCompressionQuality": 75,
"defaultResamplingMethod": "Bilinear",
"maxImageHeight": 4100,
"maxImageWidth": 15000,
"allowRasterFunction": true,
"rasterFunctionInfos": [
{
"name": "None",
"description": "",
"help": ""
}
],
"rasterTypeInfos": [
{
"name": "Raster Dataset",
"description": "Supports all ArcGIS Raster Datasets",
"help": ""
}
],
"mensurationCapabilities": "Basic",
"hasHistograms": true,
"hasColormap": false,
"hasRasterAttributeTable": false,
"minScale": 0,
"maxScale": 0,
"exportTilesAllowed": false,
"supportsStatistics": false,
"supportsAdvancedQueries": false,
"editFieldsInfo": null,
"ownershipBasedAccessControlForRasters": null,
"allowComputeTiePoints": false,
"useStandardizedQueries": true,
"advancedQueryCapabilities": {
"useStandardizedQueries": true,
"supportsStatistics": false,
"supportsOrderBy": false,
"supportsDistinct": false,
"supportsPagination": false
},
"spatialReference": {
"wkid": 103191,
"latestWkid": 6609
}
}