View In:
ArcGIS JavaScript
ArcGIS Online Map Viewer
ArcGIS Earth
Service Description: greyscale ortho-rectified vertical aerial photography covering Milwaukee County Wisconsin - captured April 1995 - resolution of 24 inches per pixel - see https://maps.sewrpc.org/regionallandinfo/metadata/1995_Orthophotography.htm for full details
Name: aerial/ortho_1995
Description: greyscale ortho-rectified vertical aerial photography covering Milwaukee County Wisconsin - captured April 1995 - resolution of 24 inches per pixel - see https://maps.sewrpc.org/regionallandinfo/metadata/1995_Orthophotography.htm for full details
Single Fused Map Cache: false
Extent:
XMin: 2484701.7052750587
YMin: 313088.5625078065
XMax: 2559538.3222003686
YMax: 441773.623155877
Spatial Reference: 103191
(6609)
LatestVCSWkid(0)
Initial Extent:
XMin: 2484701.7052750587
YMin: 313088.5625078065
XMax: 2559538.3222003686
YMax: 441773.623155877
Spatial Reference: 103191
(6609)
LatestVCSWkid(0)
Full Extent:
XMin: 2484701.7052750587
YMin: 313088.5625078065
XMax: 2559538.3222003686
YMax: 441773.623155877
Spatial Reference: 103191
(6609)
LatestVCSWkid(0)
Pixel Size X: 2.0000699394743
Pixel Size Y: 2.0000164845368573
Band Count: 1
Pixel Type: U8
RasterFunction Infos: {"rasterFunctionInfos": [{
"name": "None",
"description": "",
"help": ""
}]}
Mensuration Capabilities: Basic
Inspection Capabilities:
Has Histograms: true
Has Colormap: false
Has Multi Dimensions : false
Rendering Rule:
Min Scale: 0
Max Scale: 0
Copyright Text: Milwaukee County GIS & Land Information; Ayres Associates, Inc.; Southeastern Wisconsin Regional Planning Commission (SEWRPC)
Service Data Type: esriImageServiceDataTypeGeneric
Min Values: 0
Max Values: 255
Mean Values: 132.573634873218
Standard Deviation Values: 68.69528735953448
Object ID Field:
Fields:
None
Default Mosaic Method: Center
Allowed Mosaic Methods:
SortField:
SortValue: null
Mosaic Operator: First
Default Compression Quality: 75
Default Resampling Method: Bilinear
Max Record Count: null
Max Image Height: 4100
Max Image Width: 15000
Max Download Image Count: null
Max Mosaic Image Count: null
Allow Raster Function: true
Allow Copy: true
Allow Analysis: true
Allow Compute TiePoints: false
Supports Statistics: false
Supports Advanced Queries: false
Use StandardizedQueries: true
Raster Type Infos:
Name: Raster Dataset
Description: Supports all ArcGIS Raster Datasets
Help:
Has Raster Attribute Table: false
Edit Fields Info: null
Ownership Based AccessControl For Rasters: null
Child Resources:
Info
Histograms
Statistics
Key Properties
Legend
Raster Function Infos
Supported Operations:
Export Image
Identify
Measure
Compute Histograms
Compute Statistics Histograms
Get Samples
Compute Class Statistics
Query Boundary
Compute Pixel Location
Compute Angles
Validate
Project