{ "currentVersion": 11.2, "serviceDescription": "
greyscale ortho-rectified vertical aerial photography covering Milwaukee County Wisconsin - captured April 1995 - resolution of 24 inches per pixel - see https://maps.sewrpc.org/regionallandinfo/metadata/1995_Orthophotography.htm for full details <\/SPAN><\/P><\/DIV><\/DIV><\/DIV>",
"name": "aerial/ortho_1995",
"description": " greyscale ortho-rectified vertical aerial photography covering Milwaukee County Wisconsin - captured April 1995 - resolution of 24 inches per pixel - see https://maps.sewrpc.org/regionallandinfo/metadata/1995_Orthophotography.htm for full details <\/SPAN><\/P><\/DIV><\/DIV><\/DIV>",
"extent": {
"xmin": 2484701.7052750587,
"ymin": 313088.5625078065,
"xmax": 2559538.3222003686,
"ymax": 441773.623155877,
"spatialReference": {
"wkid": 103191,
"latestWkid": 6609
}
},
"initialExtent": {
"xmin": 2484701.7052750587,
"ymin": 313088.5625078065,
"xmax": 2559538.3222003686,
"ymax": 441773.623155877,
"spatialReference": {
"wkid": 103191,
"latestWkid": 6609
}
},
"fullExtent": {
"xmin": 2484701.7052750587,
"ymin": 313088.5625078065,
"xmax": 2559538.3222003686,
"ymax": 441773.623155877,
"spatialReference": {
"wkid": 103191,
"latestWkid": 6609
}
},
"sortableFields": "",
"bandCount": 1,
"pixelType": "U8",
"minValues": [
0
],
"maxValues": [
255
],
"meanValues": [
132.573634873218
],
"stdvValues": [
68.69528735953448
],
"hasMultidimensions": false,
"pixelSizeX": 2.0000699394743,
"pixelSizeY": 2.0000164845368573,
"meanPixelSize": 0.609614390248081,
"datasetFormat": "FGDBR",
"uncompressedSize": 2407484614,
"blockWidth": 128,
"blockHeight": 128,
"compressionType": "NONE",
"bandNames": [
"Band_1"
],
"allowCopy": true,
"allowAnalysis": true,
"itemAccess": false,
"inspectionCapabilities": "",
"minPixelSize": 0,
"maxPixelSize": 0,
"copyrightText": "Milwaukee County GIS & Land Information; Ayres Associates, Inc.; Southeastern Wisconsin Regional Planning Commission (SEWRPC)",
"serviceDataType": "esriImageServiceDataTypeGeneric",
"serviceSourceType": "esriImageServiceSourceTypeDataset",
"objectIdField": "",
"fields": [],
"capabilities": "Image,Metadata,Mensuration",
"defaultMosaicMethod": "Center",
"allowedMosaicMethods": "",
"sortField": "",
"sortValue": null,
"sortAscending": true,
"mosaicOperator": "First",
"defaultCompressionQuality": 75,
"defaultResamplingMethod": "Bilinear",
"maxImageHeight": 4100,
"maxImageWidth": 15000,
"allowRasterFunction": true,
"rasterFunctionInfos": [
{
"name": "None",
"description": "",
"help": ""
}
],
"rasterTypeInfos": [
{
"name": "Raster Dataset",
"description": "Supports all ArcGIS Raster Datasets",
"help": ""
}
],
"mensurationCapabilities": "Basic",
"hasHistograms": true,
"hasColormap": false,
"hasRasterAttributeTable": false,
"minScale": 0,
"maxScale": 0,
"exportTilesAllowed": false,
"supportsStatistics": false,
"supportsAdvancedQueries": false,
"editFieldsInfo": null,
"ownershipBasedAccessControlForRasters": null,
"allowComputeTiePoints": false,
"useStandardizedQueries": true,
"advancedQueryCapabilities": {
"useStandardizedQueries": true,
"supportsStatistics": false,
"supportsOrderBy": false,
"supportsDistinct": false,
"supportsPagination": false
},
"spatialReference": {
"wkid": 103191,
"latestWkid": 6609
}
}