View In:
ArcGIS JavaScript
ArcGIS Online Map Viewer
ArcGIS Earth
Service Description: greyscale non-ortho-rectifed vertical aerial photography covering Milwaukee County Wisconsin - captured March 1990 - resolution of approx. 12 inches per pixel - source 9 inch x 9 inch 1:19,200 prints were scanned at 1800 pixels per inch and georeferenced via third-order polynomial transformation using ortho-rectifed imagery as reference
Name: aerial/aerial_1990
Description: greyscale non-ortho-rectifed vertical aerial photography covering Milwaukee County Wisconsin - captured March 1990 - resolution of approx. 12 inches per pixel - source 9 inch x 9 inch 1:19,200 prints were scanned at 1800 pixels per inch and georeferenced via third-order polynomial transformation using ortho-rectifed imagery as reference
Single Fused Map Cache: false
Extent:
XMin: 2481720.7589138746
YMin: 312087.3245980689
XMax: 2554392.4132647314
YMax: 443320.6024763435
Spatial Reference: 103191
(6609)
LatestVCSWkid(0)
Initial Extent:
XMin: 2481720.7589138746
YMin: 312087.3245980689
XMax: 2554392.4132647314
YMax: 443320.6024763435
Spatial Reference: 103191
(6609)
LatestVCSWkid(0)
Full Extent:
XMin: 2481720.7589138746
YMin: 312087.3245980689
XMax: 2554392.4132647314
YMax: 443320.6024763435
Spatial Reference: 103191
(6609)
LatestVCSWkid(0)
Pixel Size X: 0.9337589056607191
Pixel Size Y: 0.9337589056607203
Band Count: 1
Pixel Type: U8
RasterFunction Infos: {"rasterFunctionInfos": [{
"name": "None",
"description": "",
"help": ""
}]}
Mensuration Capabilities: Basic
Inspection Capabilities:
Has Histograms: true
Has Colormap: false
Has Multi Dimensions : false
Rendering Rule:
Min Scale: 0
Max Scale: 0
Copyright Text: Milwaukee County GIS & Land Information; Southeastern WI Regional Planning Commission (SEWRPC)
Service Data Type: esriImageServiceDataTypeGeneric
Min Values: 0
Max Values: 223
Mean Values: 100.08574095406631
Standard Deviation Values: 35.723810988179416
Object ID Field:
Fields:
None
Default Mosaic Method: Center
Allowed Mosaic Methods:
SortField:
SortValue: null
Mosaic Operator: First
Default Compression Quality: 75
Default Resampling Method: Bilinear
Max Record Count: null
Max Image Height: 4100
Max Image Width: 15000
Max Download Image Count: null
Max Mosaic Image Count: null
Allow Raster Function: true
Allow Copy: true
Allow Analysis: true
Allow Compute TiePoints: false
Supports Statistics: false
Supports Advanced Queries: false
Use StandardizedQueries: true
Raster Type Infos:
Name: Raster Dataset
Description: Supports all ArcGIS Raster Datasets
Help:
Has Raster Attribute Table: false
Edit Fields Info: null
Ownership Based AccessControl For Rasters: null
Child Resources:
Info
Histograms
Statistics
Key Properties
Legend
Raster Function Infos
Supported Operations:
Export Image
Identify
Measure
Compute Histograms
Compute Statistics Histograms
Get Samples
Compute Class Statistics
Query Boundary
Compute Pixel Location
Compute Angles
Validate
Project