{ "currentVersion": 11.2, "serviceDescription": "
greyscale non-ortho-rectifed vertical aerial photography covering Milwaukee County Wisconsin - captured March 1990 - resolution of approx. 12 inches per pixel - source 9 inch x 9 inch 1:19,200 prints were scanned at 1800 pixels per inch and georeferenced via third-order polynomial transformation using ortho-rectifed imagery as reference <\/SPAN><\/SPAN><\/P><\/DIV><\/DIV><\/DIV>",
"name": "aerial/aerial_1990",
"description": " greyscale non-ortho-rectifed vertical aerial photography covering Milwaukee County Wisconsin - captured March 1990 - resolution of approx. 12 inches per pixel - source 9 inch x 9 inch 1:19,200 prints were scanned at 1800 pixels per inch and georeferenced via third-order polynomial transformation using ortho-rectifed imagery as reference <\/SPAN><\/SPAN><\/P><\/DIV><\/DIV><\/DIV>",
"extent": {
"xmin": 2481720.7589138746,
"ymin": 312087.3245980689,
"xmax": 2554392.4132647314,
"ymax": 443320.6024763435,
"spatialReference": {
"wkid": 103191,
"latestWkid": 6609
}
},
"initialExtent": {
"xmin": 2481720.7589138746,
"ymin": 312087.3245980689,
"xmax": 2554392.4132647314,
"ymax": 443320.6024763435,
"spatialReference": {
"wkid": 103191,
"latestWkid": 6609
}
},
"fullExtent": {
"xmin": 2481720.7589138746,
"ymin": 312087.3245980689,
"xmax": 2554392.4132647314,
"ymax": 443320.6024763435,
"spatialReference": {
"wkid": 103191,
"latestWkid": 6609
}
},
"sortableFields": "",
"bandCount": 1,
"pixelType": "U8",
"minValues": [
0
],
"maxValues": [
223
],
"meanValues": [
100.08574095406631
],
"stdvValues": [
35.723810988179416
],
"hasMultidimensions": false,
"pixelSizeX": 0.9337589056607191,
"pixelSizeY": 0.9337589056607203,
"meanPixelSize": 0.2846102836659547,
"datasetFormat": "FGDBR",
"uncompressedSize": 10938040061,
"blockWidth": 128,
"blockHeight": 128,
"compressionType": "NONE",
"bandNames": [
"Band_1"
],
"allowCopy": true,
"allowAnalysis": true,
"itemAccess": false,
"inspectionCapabilities": "",
"minPixelSize": 0,
"maxPixelSize": 0,
"copyrightText": "Milwaukee County GIS & Land Information; Southeastern WI Regional Planning Commission (SEWRPC)",
"serviceDataType": "esriImageServiceDataTypeGeneric",
"serviceSourceType": "esriImageServiceSourceTypeDataset",
"objectIdField": "",
"fields": [],
"capabilities": "Image,Metadata,Mensuration",
"defaultMosaicMethod": "Center",
"allowedMosaicMethods": "",
"sortField": "",
"sortValue": null,
"sortAscending": true,
"mosaicOperator": "First",
"defaultCompressionQuality": 75,
"defaultResamplingMethod": "Bilinear",
"maxImageHeight": 4100,
"maxImageWidth": 15000,
"allowRasterFunction": true,
"rasterFunctionInfos": [
{
"name": "None",
"description": "",
"help": ""
}
],
"rasterTypeInfos": [
{
"name": "Raster Dataset",
"description": "Supports all ArcGIS Raster Datasets",
"help": ""
}
],
"mensurationCapabilities": "Basic",
"hasHistograms": true,
"hasColormap": false,
"hasRasterAttributeTable": false,
"minScale": 0,
"maxScale": 0,
"exportTilesAllowed": false,
"supportsStatistics": false,
"supportsAdvancedQueries": false,
"editFieldsInfo": null,
"ownershipBasedAccessControlForRasters": null,
"allowComputeTiePoints": false,
"useStandardizedQueries": true,
"advancedQueryCapabilities": {
"useStandardizedQueries": true,
"supportsStatistics": false,
"supportsOrderBy": false,
"supportsDistinct": false,
"supportsPagination": false
},
"spatialReference": {
"wkid": 103191,
"latestWkid": 6609
}
}