View In:
ArcGIS JavaScript
ArcGIS Online Map Viewer
ArcGIS Earth
Service Description: color non-ortho-rectifed vertical aerial photography covering a portion of Milwaukee County Wisconsin; captured April 1976; resolution of approx. 16 inches per pixel; source 9 inch x 9 inch 1:9,600 prints were scanned at 600 pixels per inch and georeferenced via third-order polynomial transformation using high-resolution ortho-rectifed imagery as reference
Name: aerial/aerial_1976
Description: color non-ortho-rectifed vertical aerial photography covering a portion of Milwaukee County Wisconsin; captured April 1976; resolution of approx. 16 inches per pixel; source 9 inch x 9 inch 1:9,600 prints were scanned at 600 pixels per inch and georeferenced via third-order polynomial transformation using high-resolution ortho-rectifed imagery as reference
Single Fused Map Cache: false
Extent:
XMin: 2504058.652115181
YMin: 322664.06549692154
XMax: 2549244.0528324395
YMax: 408999.52484868467
Spatial Reference: 103191
(6609)
LatestVCSWkid(0)
Initial Extent:
XMin: 2504058.652115181
YMin: 322664.06549692154
XMax: 2549244.0528324395
YMax: 408999.52484868467
Spatial Reference: 103191
(6609)
LatestVCSWkid(0)
Full Extent:
XMin: 2504058.652115181
YMin: 322664.06549692154
XMax: 2549244.0528324395
YMax: 408999.52484868467
Spatial Reference: 103191
(6609)
LatestVCSWkid(0)
Pixel Size X: 1.3038261979818344
Pixel Size Y: 1.3038261979818344
Band Count: 3
Pixel Type: U8
RasterFunction Infos: {"rasterFunctionInfos": [{
"name": "None",
"description": "",
"help": ""
}]}
Mensuration Capabilities: Basic
Inspection Capabilities:
Has Histograms: true
Has Colormap: false
Has Multi Dimensions : false
Rendering Rule:
Min Scale: 0
Max Scale: 0
Copyright Text: Milwaukee County GIS & Land Information, Milwaukee Metropolitan Sewerage District (MMSD)
Service Data Type: esriImageServiceDataTypeRGB
Min Values: 34, 11, 0
Max Values: 255, 255, 235
Mean Values: 172.20270940180978, 127.97491703216335, 89.73413821352408
Standard Deviation Values: 35.72558991314564, 40.99595422845987, 35.47706050913748
Object ID Field:
Fields:
None
Default Mosaic Method: Center
Allowed Mosaic Methods:
SortField:
SortValue: null
Mosaic Operator: First
Default Compression Quality: 75
Default Resampling Method: Bilinear
Max Record Count: null
Max Image Height: 4100
Max Image Width: 15000
Max Download Image Count: null
Max Mosaic Image Count: null
Allow Raster Function: true
Allow Copy: true
Allow Analysis: true
Allow Compute TiePoints: false
Supports Statistics: false
Supports Advanced Queries: false
Use StandardizedQueries: true
Raster Type Infos:
Name: Raster Dataset
Description: Supports all ArcGIS Raster Datasets
Help:
Has Raster Attribute Table: false
Edit Fields Info: null
Ownership Based AccessControl For Rasters: null
Child Resources:
Info
Histograms
Statistics
Key Properties
Legend
Raster Function Infos
Supported Operations:
Export Image
Identify
Measure
Compute Histograms
Compute Statistics Histograms
Get Samples
Compute Class Statistics
Query Boundary
Compute Pixel Location
Compute Angles
Validate
Project