{ "currentVersion": 11.2, "serviceDescription": "
color non-ortho-rectifed vertical aerial photography covering a portion of Milwaukee County Wisconsin; captured April 1976; resolution of approx. 16 inches per pixel; source 9 inch x 9 inch 1:9,600 prints were scanned at 600 pixels per inch and georeferenced via third-order polynomial transformation using high-resolution ortho-rectifed imagery as reference<\/SPAN><\/P><\/DIV><\/DIV><\/DIV>",
"name": "aerial/aerial_1976",
"description": " color non-ortho-rectifed vertical aerial photography covering a portion of Milwaukee County Wisconsin; captured April 1976; resolution of approx. 16 inches per pixel; source 9 inch x 9 inch 1:9,600 prints were scanned at 600 pixels per inch and georeferenced via third-order polynomial transformation using high-resolution ortho-rectifed imagery as reference<\/SPAN><\/P><\/DIV><\/DIV><\/DIV>",
"extent": {
"xmin": 2504058.652115181,
"ymin": 322664.06549692154,
"xmax": 2549244.0528324395,
"ymax": 408999.52484868467,
"spatialReference": {
"wkid": 103191,
"latestWkid": 6609
}
},
"initialExtent": {
"xmin": 2504058.652115181,
"ymin": 322664.06549692154,
"xmax": 2549244.0528324395,
"ymax": 408999.52484868467,
"spatialReference": {
"wkid": 103191,
"latestWkid": 6609
}
},
"fullExtent": {
"xmin": 2504058.652115181,
"ymin": 322664.06549692154,
"xmax": 2549244.0528324395,
"ymax": 408999.52484868467,
"spatialReference": {
"wkid": 103191,
"latestWkid": 6609
}
},
"sortableFields": "",
"bandCount": 3,
"pixelType": "U8",
"minValues": [
34,
11,
0
],
"maxValues": [
255,
255,
235
],
"meanValues": [
172.20270940180978,
127.97491703216335,
89.73413821352408
],
"stdvValues": [
35.72558991314564,
40.99595422845987,
35.47706050913748
],
"hasMultidimensions": false,
"pixelSizeX": 1.3038261979818344,
"pixelSizeY": 1.3038261979818344,
"meanPixelSize": 0.3974070199589031,
"datasetFormat": "FGDBR",
"uncompressedSize": 6884449056,
"blockWidth": 128,
"blockHeight": 128,
"compressionType": "NONE",
"bandNames": [
"Band_1",
"Band_2",
"Band_3"
],
"allowCopy": true,
"allowAnalysis": true,
"itemAccess": false,
"inspectionCapabilities": "",
"minPixelSize": 0,
"maxPixelSize": 0,
"copyrightText": "Milwaukee County GIS & Land Information, Milwaukee Metropolitan Sewerage District (MMSD)",
"serviceDataType": "esriImageServiceDataTypeRGB",
"serviceSourceType": "esriImageServiceSourceTypeDataset",
"objectIdField": "",
"fields": [],
"capabilities": "Image,Metadata,Mensuration",
"defaultMosaicMethod": "Center",
"allowedMosaicMethods": "",
"sortField": "",
"sortValue": null,
"sortAscending": true,
"mosaicOperator": "First",
"defaultCompressionQuality": 75,
"defaultResamplingMethod": "Bilinear",
"maxImageHeight": 4100,
"maxImageWidth": 15000,
"allowRasterFunction": true,
"rasterFunctionInfos": [
{
"name": "None",
"description": "",
"help": ""
}
],
"rasterTypeInfos": [
{
"name": "Raster Dataset",
"description": "Supports all ArcGIS Raster Datasets",
"help": ""
}
],
"mensurationCapabilities": "Basic",
"hasHistograms": true,
"hasColormap": false,
"hasRasterAttributeTable": false,
"minScale": 0,
"maxScale": 0,
"exportTilesAllowed": false,
"supportsStatistics": false,
"supportsAdvancedQueries": false,
"editFieldsInfo": null,
"ownershipBasedAccessControlForRasters": null,
"allowComputeTiePoints": false,
"useStandardizedQueries": true,
"advancedQueryCapabilities": {
"useStandardizedQueries": true,
"supportsStatistics": false,
"supportsOrderBy": false,
"supportsDistinct": false,
"supportsPagination": false
},
"spatialReference": {
"wkid": 103191,
"latestWkid": 6609
}
}