View In:
ArcGIS JavaScript
ArcGIS Online Map Viewer
ArcGIS Earth
Service Description: greyscale non-ortho-rectifed vertical aerial photography covering Milwaukee County Wisconsin; captured May 1970; resolution of approx. 11 inches per pixel; source 9 inch x 9 inch 1:20,000 prints were scanned at 1,800 pixels per inch and georeferenced via third-order polynomial transformation using ortho-rectifed imagery as reference
Name: aerial/aerial_1970
Description: greyscale non-ortho-rectifed vertical aerial photography covering Milwaukee County Wisconsin; captured May 1970; resolution of approx. 11 inches per pixel; source 9 inch x 9 inch 1:20,000 prints were scanned at 1,800 pixels per inch and georeferenced via third-order polynomial transformation using ortho-rectifed imagery as reference
Single Fused Map Cache: false
Extent:
XMin: 2481911.8488726467
YMin: 311292.00201095873
XMax: 2564497.477548735
YMax: 443194.41355888546
Spatial Reference: 103191
(6609)
LatestVCSWkid(0)
Initial Extent:
XMin: 2481911.8488726467
YMin: 311292.00201095873
XMax: 2564497.477548735
YMax: 443194.41355888546
Spatial Reference: 103191
(6609)
LatestVCSWkid(0)
Full Extent:
XMin: 2481911.8488726467
YMin: 311292.00201095873
XMax: 2564497.477548735
YMax: 443194.41355888546
Spatial Reference: 103191
(6609)
LatestVCSWkid(0)
Pixel Size X: 0.896082252922415
Pixel Size Y: 0.8960822529224161
Band Count: 1
Pixel Type: U8
RasterFunction Infos: {"rasterFunctionInfos": [{
"name": "None",
"description": "",
"help": ""
}]}
Mensuration Capabilities: Basic
Inspection Capabilities:
Has Histograms: true
Has Colormap: false
Has Multi Dimensions : false
Rendering Rule:
Min Scale: 0
Max Scale: 0
Copyright Text: Milwaukee County GIS & Land Information; Southeastern WI Regional Planning Commission (SEWRPC)
Service Data Type: esriImageServiceDataTypeGeneric
Min Values: 0
Max Values: 234
Mean Values: 86.76855902147516
Standard Deviation Values: 37.53202430080155
Object ID Field:
Fields:
None
Default Mosaic Method: Center
Allowed Mosaic Methods:
SortField:
SortValue: null
Mosaic Operator: First
Default Compression Quality: 75
Default Resampling Method: Bilinear
Max Record Count: null
Max Image Height: 4100
Max Image Width: 15000
Max Download Image Count: null
Max Mosaic Image Count: null
Allow Raster Function: true
Allow Copy: true
Allow Analysis: true
Allow Compute TiePoints: false
Supports Statistics: false
Supports Advanced Queries: false
Use StandardizedQueries: true
Raster Type Infos:
Name: Raster Dataset
Description: Supports all ArcGIS Raster Datasets
Help:
Has Raster Attribute Table: false
Edit Fields Info: null
Ownership Based AccessControl For Rasters: null
Child Resources:
Info
Histograms
Statistics
Key Properties
Legend
Raster Function Infos
Supported Operations:
Export Image
Identify
Measure
Compute Histograms
Compute Statistics Histograms
Get Samples
Compute Class Statistics
Query Boundary
Compute Pixel Location
Compute Angles
Validate
Project