{ "currentVersion": 11.2, "serviceDescription": "
greyscale non-ortho-rectifed vertical aerial photography covering Milwaukee County Wisconsin; captured May 1970; resolution of approx. 11 inches per pixel; source 9 inch x 9 inch 1:20,000 prints were scanned at 1,800 pixels per inch and georeferenced via third-order polynomial transformation using ortho-rectifed imagery as reference<\/SPAN><\/P><\/DIV><\/DIV><\/DIV>",
"name": "aerial/aerial_1970",
"description": " greyscale non-ortho-rectifed vertical aerial photography covering Milwaukee County Wisconsin; captured May 1970; resolution of approx. 11 inches per pixel; source 9 inch x 9 inch 1:20,000 prints were scanned at 1,800 pixels per inch and georeferenced via third-order polynomial transformation using ortho-rectifed imagery as reference<\/SPAN><\/P><\/DIV><\/DIV><\/DIV>",
"extent": {
"xmin": 2481911.8488726467,
"ymin": 311292.00201095873,
"xmax": 2564497.477548735,
"ymax": 443194.41355888546,
"spatialReference": {
"wkid": 103191,
"latestWkid": 6609
}
},
"initialExtent": {
"xmin": 2481911.8488726467,
"ymin": 311292.00201095873,
"xmax": 2564497.477548735,
"ymax": 443194.41355888546,
"spatialReference": {
"wkid": 103191,
"latestWkid": 6609
}
},
"fullExtent": {
"xmin": 2481911.8488726467,
"ymin": 311292.00201095873,
"xmax": 2564497.477548735,
"ymax": 443194.41355888546,
"spatialReference": {
"wkid": 103191,
"latestWkid": 6609
}
},
"sortableFields": "",
"bandCount": 1,
"pixelType": "U8",
"minValues": [
0
],
"maxValues": [
234
],
"meanValues": [
86.76855902147516
],
"stdvValues": [
37.53202430080155
],
"hasMultidimensions": false,
"pixelSizeX": 0.896082252922415,
"pixelSizeY": 0.8960822529224161,
"meanPixelSize": 0.2731264169435862,
"datasetFormat": "FGDBR",
"uncompressedSize": 13566301437,
"blockWidth": 128,
"blockHeight": 128,
"compressionType": "NONE",
"bandNames": [
"Band_1"
],
"allowCopy": true,
"allowAnalysis": true,
"itemAccess": false,
"inspectionCapabilities": "",
"minPixelSize": 0,
"maxPixelSize": 0,
"copyrightText": "Milwaukee County GIS & Land Information; Southeastern WI Regional Planning Commission (SEWRPC)",
"serviceDataType": "esriImageServiceDataTypeGeneric",
"serviceSourceType": "esriImageServiceSourceTypeDataset",
"objectIdField": "",
"fields": [],
"capabilities": "Image,Metadata,Mensuration",
"defaultMosaicMethod": "Center",
"allowedMosaicMethods": "",
"sortField": "",
"sortValue": null,
"sortAscending": true,
"mosaicOperator": "First",
"defaultCompressionQuality": 75,
"defaultResamplingMethod": "Bilinear",
"maxImageHeight": 4100,
"maxImageWidth": 15000,
"allowRasterFunction": true,
"rasterFunctionInfos": [
{
"name": "None",
"description": "",
"help": ""
}
],
"rasterTypeInfos": [
{
"name": "Raster Dataset",
"description": "Supports all ArcGIS Raster Datasets",
"help": ""
}
],
"mensurationCapabilities": "Basic",
"hasHistograms": true,
"hasColormap": false,
"hasRasterAttributeTable": false,
"minScale": 0,
"maxScale": 0,
"exportTilesAllowed": false,
"supportsStatistics": false,
"supportsAdvancedQueries": false,
"editFieldsInfo": null,
"ownershipBasedAccessControlForRasters": null,
"allowComputeTiePoints": false,
"useStandardizedQueries": true,
"advancedQueryCapabilities": {
"useStandardizedQueries": true,
"supportsStatistics": false,
"supportsOrderBy": false,
"supportsDistinct": false,
"supportsPagination": false
},
"spatialReference": {
"wkid": 103191,
"latestWkid": 6609
}
}