View In:
ArcGIS JavaScript
ArcGIS Online Map Viewer
ArcGIS Earth
Service Description: greyscale non-ortho-rectifed vertical aerial photography covering Milwaukee County Wisconsin; captured March 1963; approx. resolution 12 inches per pixel; source 9 inch x 9 inch 1:24,000 prints were scanned at 1,800 pixels per inch and georeferenced via third-order polynomial transformation using ortho-rectifed imagery as reference
Name: aerial/aerial_1963
Description: greyscale non-ortho-rectifed vertical aerial photography covering Milwaukee County Wisconsin; captured March 1963; approx. resolution 12 inches per pixel; source 9 inch x 9 inch 1:24,000 prints were scanned at 1,800 pixels per inch and georeferenced via third-order polynomial transformation using ortho-rectifed imagery as reference
Single Fused Map Cache: false
Extent:
XMin: 2480696.304128766
YMin: 302765.72308190167
XMax: 2554717.304128766
YMax: 451711.72308190167
Spatial Reference: 103191
(6609)
LatestVCSWkid(0)
Initial Extent:
XMin: 2480696.304128766
YMin: 302765.72308190167
XMax: 2554717.304128766
YMax: 451711.72308190167
Spatial Reference: 103191
(6609)
LatestVCSWkid(0)
Full Extent:
XMin: 2480696.304128766
YMin: 302765.72308190167
XMax: 2554717.304128766
YMax: 451711.72308190167
Spatial Reference: 103191
(6609)
LatestVCSWkid(0)
Pixel Size X: 1.0
Pixel Size Y: 1.0
Band Count: 1
Pixel Type: U8
RasterFunction Infos: {"rasterFunctionInfos": [{
"name": "None",
"description": "",
"help": ""
}]}
Mensuration Capabilities: Basic
Inspection Capabilities:
Has Histograms: true
Has Colormap: false
Has Multi Dimensions : false
Rendering Rule:
Min Scale: 0
Max Scale: 0
Copyright Text: Milwaukee County GIS & Land Information; Southeastern WI Regional Planning Commission (SEWRPC)
Service Data Type: esriImageServiceDataTypeGeneric
Min Values: 0
Max Values: 220
Mean Values: 82.41319208675033
Standard Deviation Values: 27.401932827816356
Object ID Field:
Fields:
None
Default Mosaic Method: Center
Allowed Mosaic Methods:
SortField:
SortValue: null
Mosaic Operator: First
Default Compression Quality: 75
Default Resampling Method: Bilinear
Max Record Count: null
Max Image Height: 4100
Max Image Width: 15000
Max Download Image Count: null
Max Mosaic Image Count: null
Allow Raster Function: true
Allow Copy: true
Allow Analysis: true
Allow Compute TiePoints: false
Supports Statistics: false
Supports Advanced Queries: false
Use StandardizedQueries: true
Raster Type Infos:
Name: Raster Dataset
Description: Supports all ArcGIS Raster Datasets
Help:
Has Raster Attribute Table: false
Edit Fields Info: null
Ownership Based AccessControl For Rasters: null
Child Resources:
Info
Histograms
Statistics
Key Properties
Legend
Raster Function Infos
Supported Operations:
Export Image
Identify
Measure
Compute Histograms
Compute Statistics Histograms
Get Samples
Compute Class Statistics
Query Boundary
Compute Pixel Location
Compute Angles
Validate
Project