{ "currentVersion": 11.2, "serviceDescription": "
greyscale non-ortho-rectifed vertical aerial photography covering Milwaukee County Wisconsin; captured March 1963; approx. resolution 12 inches per pixel; source 9 inch x 9 inch 1:24,000 prints were scanned at 1,800 pixels per inch and georeferenced via third-order polynomial transformation using ortho-rectifed imagery as reference<\/SPAN><\/P><\/DIV><\/DIV><\/DIV>",
"name": "aerial/aerial_1963",
"description": " greyscale non-ortho-rectifed vertical aerial photography covering Milwaukee County Wisconsin; captured March 1963; approx. resolution 12 inches per pixel; source 9 inch x 9 inch 1:24,000 prints were scanned at 1,800 pixels per inch and georeferenced via third-order polynomial transformation using ortho-rectifed imagery as reference<\/SPAN><\/P><\/DIV><\/DIV><\/DIV>",
"extent": {
"xmin": 2480696.304128766,
"ymin": 302765.72308190167,
"xmax": 2554717.304128766,
"ymax": 451711.72308190167,
"spatialReference": {
"wkid": 103191,
"latestWkid": 6609
}
},
"initialExtent": {
"xmin": 2480696.304128766,
"ymin": 302765.72308190167,
"xmax": 2554717.304128766,
"ymax": 451711.72308190167,
"spatialReference": {
"wkid": 103191,
"latestWkid": 6609
}
},
"fullExtent": {
"xmin": 2480696.304128766,
"ymin": 302765.72308190167,
"xmax": 2554717.304128766,
"ymax": 451711.72308190167,
"spatialReference": {
"wkid": 103191,
"latestWkid": 6609
}
},
"sortableFields": "",
"bandCount": 1,
"pixelType": "U8",
"minValues": [
0
],
"maxValues": [
220
],
"meanValues": [
82.41319208675033
],
"stdvValues": [
27.401932827816356
],
"hasMultidimensions": false,
"pixelSizeX": 1,
"pixelSizeY": 1,
"meanPixelSize": 0.30480060960121924,
"datasetFormat": "FGDBR",
"uncompressedSize": 11025131866,
"blockWidth": 128,
"blockHeight": 128,
"compressionType": "NONE",
"bandNames": [
"Band_1"
],
"allowCopy": true,
"allowAnalysis": true,
"itemAccess": false,
"inspectionCapabilities": "",
"minPixelSize": 0,
"maxPixelSize": 0,
"copyrightText": "Milwaukee County GIS & Land Information; Southeastern WI Regional Planning Commission (SEWRPC)",
"serviceDataType": "esriImageServiceDataTypeGeneric",
"serviceSourceType": "esriImageServiceSourceTypeDataset",
"objectIdField": "",
"fields": [],
"capabilities": "Image,Metadata,Mensuration",
"defaultMosaicMethod": "Center",
"allowedMosaicMethods": "",
"sortField": "",
"sortValue": null,
"sortAscending": true,
"mosaicOperator": "First",
"defaultCompressionQuality": 75,
"defaultResamplingMethod": "Bilinear",
"maxImageHeight": 4100,
"maxImageWidth": 15000,
"allowRasterFunction": true,
"rasterFunctionInfos": [
{
"name": "None",
"description": "",
"help": ""
}
],
"rasterTypeInfos": [
{
"name": "Raster Dataset",
"description": "Supports all ArcGIS Raster Datasets",
"help": ""
}
],
"mensurationCapabilities": "Basic",
"hasHistograms": true,
"hasColormap": false,
"hasRasterAttributeTable": false,
"minScale": 0,
"maxScale": 0,
"exportTilesAllowed": false,
"supportsStatistics": false,
"supportsAdvancedQueries": false,
"editFieldsInfo": null,
"ownershipBasedAccessControlForRasters": null,
"allowComputeTiePoints": false,
"useStandardizedQueries": true,
"advancedQueryCapabilities": {
"useStandardizedQueries": true,
"supportsStatistics": false,
"supportsOrderBy": false,
"supportsDistinct": false,
"supportsPagination": false
},
"spatialReference": {
"wkid": 103191,
"latestWkid": 6609
}
}