View In:
ArcGIS JavaScript
ArcGIS Online Map Viewer
ArcGIS Earth
Service Description: 2010 Lidar Data Products for the Milwaukee, WI collection area. ESRI Multipoints and Terrain for the Bare Earth lidar points, Hydro and Transportation Breaklines, 5ft DEM, 1ft Contours tiled to manage file size, Voids >= 10 sq meters, Percent Slope, Degree Slope, 5ft Digital Surface Model (DSM), 5ft nDSM (Height Above Ground raster), Tiled Intensity Rasters.
Name: elevation/dem_slopepercent_2010
Description: 2010 Lidar Data Products for the Milwaukee, WI collection area. ESRI Multipoints and Terrain for the Bare Earth lidar points, Hydro and Transportation Breaklines, 5ft DEM, 1ft Contours tiled to manage file size, Voids >= 10 sq meters, Percent Slope, Degree Slope, 5ft Digital Surface Model (DSM), 5ft nDSM (Height Above Ground raster), Tiled Intensity Rasters.
Single Fused Map Cache: false
Extent:
XMin: 2484572.96686019
YMin: 313055.2198530282
XMax: 2551997.96686019
YMax: 441915.2198530282
Spatial Reference: 103191
(6609)
LatestVCSWkid(0)
Initial Extent:
XMin: 2484572.96686019
YMin: 313055.2198530282
XMax: 2551997.96686019
YMax: 441915.2198530282
Spatial Reference: 103191
(6609)
LatestVCSWkid(0)
Full Extent:
XMin: 2484572.96686019
YMin: 313055.2198530282
XMax: 2551997.96686019
YMax: 441915.2198530282
Spatial Reference: 103191
(6609)
LatestVCSWkid(0)
Pixel Size X: 5.0
Pixel Size Y: 5.0
Band Count: 1
Pixel Type: F32
RasterFunction Infos: {"rasterFunctionInfos": [{
"name": "None",
"description": "",
"help": ""
}]}
Mensuration Capabilities: Basic
Inspection Capabilities:
Has Histograms: true
Has Colormap: false
Has Multi Dimensions : false
Rendering Rule:
Min Scale: 0
Max Scale: 0
Copyright Text: Milwaukee County Land Information Office
Service Data Type: esriImageServiceDataTypeGeneric
Min Values: 0
Max Values: 3157.397705078125
Mean Values: 5.693636736703837
Standard Deviation Values: 8.500226599866622
Object ID Field:
Fields:
None
Default Mosaic Method: Center
Allowed Mosaic Methods:
SortField:
SortValue: null
Mosaic Operator: First
Default Compression Quality: 75
Default Resampling Method: Bilinear
Max Record Count: null
Max Image Height: 4100
Max Image Width: 15000
Max Download Image Count: null
Max Mosaic Image Count: null
Allow Raster Function: true
Allow Copy: true
Allow Analysis: true
Allow Compute TiePoints: false
Supports Statistics: false
Supports Advanced Queries: false
Use StandardizedQueries: true
Raster Type Infos:
Name: Raster Dataset
Description: Supports all ArcGIS Raster Datasets
Help:
Has Raster Attribute Table: false
Edit Fields Info: null
Ownership Based AccessControl For Rasters: null
Child Resources:
Info
Histograms
Statistics
Key Properties
Legend
Raster Function Infos
Supported Operations:
Export Image
Identify
Measure
Compute Histograms
Compute Statistics Histograms
Get Samples
Compute Class Statistics
Query Boundary
Compute Pixel Location
Compute Angles
Validate
Project