View In:
ArcGIS JavaScript
ArcGIS Online Map Viewer
ArcGIS Earth
Service Description: elevation/dem_2020
Name: elevation/dem_2020
Description:
Single Fused Map Cache: false
Extent:
XMin: 2484569.135876417
YMin: 313025.17672251165
XMax: 2551967.5066568404
YMax: 441893.14569209516
Spatial Reference: 103191
(6609)
VCSWkid(105703)
LatestVCSWkid(6360)
Initial Extent:
XMin: 2484569.135876417
YMin: 313025.17672251165
XMax: 2551967.5066568404
YMax: 441893.14569209516
Spatial Reference: 103191
(6609)
VCSWkid(105703)
LatestVCSWkid(6360)
Full Extent:
XMin: 2484569.135876417
YMin: 313025.17672251165
XMax: 2551967.5066568404
YMax: 441893.14569209516
Spatial Reference: 103191
(6609)
VCSWkid(105703)
LatestVCSWkid(6360)
Pixel Size X: 0.9999906642594591
Pixel Size Y: 0.9999997592077436
Band Count: 1
Pixel Type: F32
RasterFunction Infos: {"rasterFunctionInfos": [{
"name": "None",
"description": "",
"help": ""
}]}
Mensuration Capabilities: Basic
Inspection Capabilities:
Has Histograms: true
Has Colormap: false
Has Multi Dimensions : false
Rendering Rule:
Min Scale: 0
Max Scale: 0
Copyright Text:
Service Data Type: esriImageServiceDataTypeGeneric
Min Values: 424.15969848633
Max Values: 992.27026367188
Mean Values: 708.8346994427
Standard Deviation Values: 54.569458811183
Object ID Field:
Fields:
None
Default Mosaic Method: Center
Allowed Mosaic Methods:
SortField:
SortValue: null
Mosaic Operator: First
Default Compression Quality: 75
Default Resampling Method: Bilinear
Max Record Count: null
Max Image Height: 4100
Max Image Width: 15000
Max Download Image Count: null
Max Mosaic Image Count: null
Allow Raster Function: true
Allow Copy: true
Allow Analysis: true
Allow Compute TiePoints: false
Supports Statistics: false
Supports Advanced Queries: false
Use StandardizedQueries: true
Raster Type Infos:
Name: Raster Dataset
Description: Supports all ArcGIS Raster Datasets
Help:
Has Raster Attribute Table: false
Edit Fields Info: null
Ownership Based AccessControl For Rasters: null
Child Resources:
Info
Histograms
Statistics
Key Properties
Legend
Raster Function Infos
Supported Operations:
Export Image
Identify
Measure
Compute Histograms
Compute Statistics Histograms
Get Samples
Compute Class Statistics
Query Boundary
Compute Pixel Location
Compute Angles
Validate
Project