View In:
ArcGIS JavaScript
ArcGIS Online Map Viewer
ArcGIS Earth
Service Description: 3 inch aerial orthophotography covering Milwaukee County Wisconsin - captured April 2022
Name: aerial/ortho_2022
Description: 3 inch aerial orthophotography covering Milwaukee County Wisconsin - captured April 2022
Single Fused Map Cache: false
Extent:
XMin: 2479999.499999999
YMin: 309999.9999999675
XMax: 2554999.999999999
YMax: 445000.4999999675
Spatial Reference: 103191
(6609)
LatestVCSWkid(0)
Initial Extent:
XMin: 2479999.499999999
YMin: 309999.9999999675
XMax: 2554999.999999999
YMax: 445000.4999999675
Spatial Reference: 103191
(6609)
LatestVCSWkid(0)
Full Extent:
XMin: 2479999.499999999
YMin: 309999.9999999675
XMax: 2554999.999999999
YMax: 445000.4999999675
Spatial Reference: 103191
(6609)
LatestVCSWkid(0)
Pixel Size X: 0.25
Pixel Size Y: 0.25
Band Count: 4
Pixel Type: U8
RasterFunction Infos: {"rasterFunctionInfos": [{
"name": "None",
"description": "",
"help": ""
}]}
Mensuration Capabilities: Basic
Inspection Capabilities:
Has Histograms: true
Has Colormap: false
Has Multi Dimensions : false
Rendering Rule:
Min Scale: 0
Max Scale: 0
Resampling: false
Copyright Text: Milwaukee County Land Information Office
Service Data Type: esriImageServiceDataTypeProcessed
Min Values: 0, 0, 0, 0
Max Values: 255, 255, 255, 255
Mean Values: 95.719799344799, 90.568284193284, 70.592342342342, 184.43581081081
Standard Deviation Values: 61.503911845325, 57.61956593934, 46.394514032925, 112.20187897497
Object ID Field:
Fields:
None
Default Mosaic Method: Center
Allowed Mosaic Methods:
SortField:
SortValue: null
Mosaic Operator: First
Default Compression Quality: 75
Default Resampling Method: Bilinear
Max Record Count: null
Max Image Height: 4100
Max Image Width: 15000
Max Download Image Count: null
Max Mosaic Image Count: null
Allow Raster Function: true
Allow Copy: true
Allow Analysis: true
Allow Compute TiePoints: false
Supports Statistics: false
Supports Advanced Queries: false
Use StandardizedQueries: true
Raster Type Infos:
Name: Raster Dataset
Description: Supports all ArcGIS Raster Datasets
Help:
Has Raster Attribute Table: false
Edit Fields Info: null
Ownership Based AccessControl For Rasters: null
Child Resources:
Info
Histograms
Statistics
Key Properties
Legend
Raster Function Infos
Supported Operations:
Export Image
Identify
Measure
Compute Histograms
Compute Statistics Histograms
Get Samples
Compute Class Statistics
Query Boundary
Compute Pixel Location
Compute Angles
Validate
Project