View In:
ArcGIS JavaScript
ArcGIS Online Map Viewer
ArcGIS Earth
Service Description: greyscale non-ortho-rectifed vertical aerial photography covering Milwaukee County Wisconsin; captured April 1980; resolution of approx. 11 inches per pixel; source 9 inch x 9 inch 1:20,000 prints were scanned at 1,800 pixels per inch and georeferenced via third-order polynomial transformation using ortho-rectifed imagery as reference
Name: aerial/aerial_1980
Description: greyscale non-ortho-rectifed vertical aerial photography covering Milwaukee County Wisconsin; captured April 1980; resolution of approx. 11 inches per pixel; source 9 inch x 9 inch 1:20,000 prints were scanned at 1,800 pixels per inch and georeferenced via third-order polynomial transformation using ortho-rectifed imagery as reference
Single Fused Map Cache: false
Extent:
XMin: 2481908.421553182
YMin: 310899.56812619016
XMax: 2562272.393358186
YMax: 444180.1469023221
Spatial Reference: 103191
(6609)
LatestVCSWkid(0)
Initial Extent:
XMin: 2481908.421553182
YMin: 310899.56812619016
XMax: 2562272.393358186
YMax: 444180.1469023221
Spatial Reference: 103191
(6609)
LatestVCSWkid(0)
Full Extent:
XMin: 2481908.421553182
YMin: 310899.56812619016
XMax: 2562272.393358186
YMax: 444180.1469023221
Spatial Reference: 103191
(6609)
LatestVCSWkid(0)
Pixel Size X: 0.9124182179999993
Pixel Size Y: 0.9124182179999998
Band Count: 1
Pixel Type: U8
RasterFunction Infos: {"rasterFunctionInfos": [{
"name": "None",
"description": "",
"help": ""
}]}
Mensuration Capabilities: Basic
Inspection Capabilities:
Has Histograms: true
Has Colormap: false
Has Multi Dimensions : false
Rendering Rule:
Min Scale: 0
Max Scale: 0
Copyright Text: Milwaukee County GIS & Land Information; Southeastern WI Regional Planning Commission (SEWRPC)
Service Data Type: esriImageServiceDataTypeGeneric
Min Values: 0
Max Values: 255
Mean Values: 63.50617144553972
Standard Deviation Values: 50.274085746842474
Object ID Field:
Fields:
None
Default Mosaic Method: Center
Allowed Mosaic Methods:
SortField:
SortValue: null
Mosaic Operator: First
Default Compression Quality: 75
Default Resampling Method: Bilinear
Max Record Count: null
Max Image Height: 4100
Max Image Width: 15000
Max Download Image Count: null
Max Mosaic Image Count: null
Allow Raster Function: true
Allow Copy: true
Allow Analysis: true
Allow Compute TiePoints: false
Supports Statistics: false
Supports Advanced Queries: false
Use StandardizedQueries: true
Raster Type Infos:
Name: Raster Dataset
Description: Supports all ArcGIS Raster Datasets
Help:
Has Raster Attribute Table: false
Edit Fields Info: null
Ownership Based AccessControl For Rasters: null
Child Resources:
Info
Histograms
Statistics
Key Properties
Legend
Raster Function Infos
Supported Operations:
Export Image
Identify
Measure
Compute Histograms
Compute Statistics Histograms
Get Samples
Compute Class Statistics
Query Boundary
Compute Pixel Location
Compute Angles
Validate
Project