View In:
ArcGIS JavaScript
ArcGIS Online Map Viewer
ArcGIS Earth
Service Description: aerial/_Latest_Aerial
Name: aerial/_Latest_Aerial
Description:
Single Fused Map Cache: false
Extent:
XMin: 2480000.0
YMin: 310000.0
XMax: 2555000.0
YMax: 445000.0
Spatial Reference: 103191
(6609)
LatestVCSWkid(0)
Initial Extent:
XMin: 2480000.0
YMin: 310000.0
XMax: 2555000.0
YMax: 445000.0
Spatial Reference: 103191
(6609)
LatestVCSWkid(0)
Full Extent:
XMin: 2480000.0
YMin: 310000.0
XMax: 2555000.0
YMax: 445000.0
Spatial Reference: 103191
(6609)
LatestVCSWkid(0)
Pixel Size X: 0.25
Pixel Size Y: 0.25
Band Count: 5
Pixel Type: U8
RasterFunction Infos: {"rasterFunctionInfos": [{
"name": "None",
"description": "",
"help": ""
}]}
Mensuration Capabilities: Basic
Inspection Capabilities:
Has Histograms: true
Has Colormap: false
Has Multi Dimensions : false
Rendering Rule:
Min Scale: 0
Max Scale: 0
Copyright Text:
Service Data Type: esriImageServiceDataTypeGeneric
Min Values: 0, 9, 2, 0, 0
Max Values: 255, 255, 255, 255, 255
Mean Values: 134.2111998362, 134.75563063063, 127.9438984439, 138.5993038493, 203.20782145782
Standard Deviation Values: 65.413897755193, 64.425292501582, 67.427949576915, 62.227905402782, 102.05113464812
Object ID Field:
Fields:
None
Default Mosaic Method: Center
Allowed Mosaic Methods:
SortField:
SortValue: null
Mosaic Operator: First
Default Compression Quality: 75
Default Resampling Method: Bilinear
Max Record Count: null
Max Image Height: 4100
Max Image Width: 15000
Max Download Image Count: null
Max Mosaic Image Count: null
Allow Raster Function: true
Allow Copy: true
Allow Analysis: true
Allow Compute TiePoints: false
Supports Statistics: false
Supports Advanced Queries: false
Use StandardizedQueries: true
Raster Type Infos:
Name: Raster Dataset
Description: Supports all ArcGIS Raster Datasets
Help:
Has Raster Attribute Table: false
Edit Fields Info: null
Ownership Based AccessControl For Rasters: null
Child Resources:
Info
Histograms
Statistics
Key Properties
Legend
Raster Function Infos
Supported Operations:
Export Image
Identify
Measure
Compute Histograms
Compute Statistics Histograms
Get Samples
Compute Class Statistics
Query Boundary
Compute Pixel Location
Compute Angles
Validate
Project