{ "currentVersion": 11.2, "serviceDescription": "
Geographic Extent: Milwaukee, Ozaukee, Walworth, Washington, and Waukesha Counties in southeastern Wisconsin, covering approximately 2,071 square miles. Dataset Description: The SEWRPC 2015 LiDAR project called for the Planning, Acquisition, processing and derivative products of LIDAR data to be collected at a nominal pulse spacing (NPS) of 0.7 meters. Project specifications are based on the U.S. Geological Survey National Geospatial Program Base LIDAR Specification, Version 1.2. The primary set of deliverable data was developed based on the following two horizontal projection/datum systems as specified in the contract: NAD27 State Plane Wisconsin South Zone, US survey feet; NGVD29, US survey feet for Milwaukee, Ozaukee, and Walworth Counties NAD83 (2011) State Plane Wisconson South Zone, US survey feet; NAVD88, US survey feet for Washington and Waukesha Counties LiDAR data was delivered in RAW flight line swath format, and processed to create Classified LAS 1.2 Files formatted to individual 10,000-foot x 10,000-foot tiles. Tile counts are listed below: Milwaukee: 89 tiles in NAD27 Ozaukee: 85 tiles Walworth: 192 tiles Washington: 146 tiles in NAD83 (2011) Waukesha: 187 tiles Corresponding hydro-flattened Digital Terrain Model (DTM) files were created in Esri file geodatabase format. 1-foot contours were created from the hydro-flattened digital terrain model data and delivered in Esri file geodatabase format. Additionally, a secondary set of unclassified and classified lidar data was developed for the following counties: Washington County: 154 tiles in NAD27 State Plane Wisconsin South Zone, US survey feet; NGVD29, US survey feet Milwaukee County: 91 tiles in NAD83 State Plane Wisconson South Zone, US survey feet; NAVD88 (2011), US survey feet Ground Conditions: LiDAR collection began in Spring 2015, while no snow was on the ground and rivers were at or below normal levels. In order to post process the LiDAR data to meet task order specifications, Quantum Spatial established a total of 127 QC points that were used to calibrate the LIDAR to known ground locations established throughout the project area.<\/SPAN><\/P><\/DIV><\/DIV>",
"name": "elevation/dsm_2015",
"description": " Geographic Extent: Milwaukee, Ozaukee, Walworth, Washington, and Waukesha Counties in southeastern Wisconsin, covering approximately 2,071 square miles. Dataset Description: The SEWRPC 2015 LiDAR project called for the Planning, Acquisition, processing and derivative products of LIDAR data to be collected at a nominal pulse spacing (NPS) of 0.7 meters. Project specifications are based on the U.S. Geological Survey National Geospatial Program Base LIDAR Specification, Version 1.2. The primary set of deliverable data was developed based on the following two horizontal projection/datum systems as specified in the contract: NAD27 State Plane Wisconsin South Zone, US survey feet; NGVD29, US survey feet for Milwaukee, Ozaukee, and Walworth Counties NAD83 (2011) State Plane Wisconson South Zone, US survey feet; NAVD88, US survey feet for Washington and Waukesha Counties LiDAR data was delivered in RAW flight line swath format, and processed to create Classified LAS 1.2 Files formatted to individual 10,000-foot x 10,000-foot tiles. Tile counts are listed below: Milwaukee: 89 tiles in NAD27 Ozaukee: 85 tiles Walworth: 192 tiles Washington: 146 tiles in NAD83 (2011) Waukesha: 187 tiles Corresponding hydro-flattened Digital Terrain Model (DTM) files were created in Esri file geodatabase format. 1-foot contours were created from the hydro-flattened digital terrain model data and delivered in Esri file geodatabase format. Additionally, a secondary set of unclassified and classified lidar data was developed for the following counties: Washington County: 154 tiles in NAD27 State Plane Wisconsin South Zone, US survey feet; NGVD29, US survey feet Milwaukee County: 91 tiles in NAD83 State Plane Wisconson South Zone, US survey feet; NAVD88 (2011), US survey feet Ground Conditions: LiDAR collection began in Spring 2015, while no snow was on the ground and rivers were at or below normal levels. In order to post process the LiDAR data to meet task order specifications, Quantum Spatial established a total of 127 QC points that were used to calibrate the LIDAR to known ground locations established throughout the project area.<\/SPAN><\/P><\/DIV><\/DIV>",
"extent": {
"xmin": 2483463.4818635457,
"ymin": 309993.8158002692,
"xmax": 2553468.4818635457,
"ymax": 445008.8158002692,
"spatialReference": {
"wkid": 103191,
"latestWkid": 6609
}
},
"initialExtent": {
"xmin": 2483463.4818635457,
"ymin": 309993.8158002692,
"xmax": 2553468.4818635457,
"ymax": 445008.8158002692,
"spatialReference": {
"wkid": 103191,
"latestWkid": 6609
}
},
"fullExtent": {
"xmin": 2483463.4818635457,
"ymin": 309993.8158002692,
"xmax": 2553468.4818635457,
"ymax": 445008.8158002692,
"spatialReference": {
"wkid": 103191,
"latestWkid": 6609
}
},
"sortableFields": "",
"bandCount": 1,
"pixelType": "F32",
"minValues": [
457.9533386230469
],
"maxValues": [
1498.4700927734375
],
"meanValues": [
710.4550614719816
],
"stdvValues": [
62.20143967461876
],
"hasMultidimensions": false,
"pixelSizeX": 5,
"pixelSizeY": 5,
"meanPixelSize": 1.5240030480060962,
"datasetFormat": "FGDBR",
"uncompressedSize": 1512276012,
"blockWidth": 128,
"blockHeight": 128,
"compressionType": "LZ77",
"bandNames": [
"Band_1"
],
"allowCopy": true,
"allowAnalysis": true,
"itemAccess": false,
"inspectionCapabilities": "",
"minPixelSize": 0,
"maxPixelSize": 0,
"copyrightText": "Milwaukee County Land Information Office",
"serviceDataType": "esriImageServiceDataTypeGeneric",
"serviceSourceType": "esriImageServiceSourceTypeDataset",
"objectIdField": "",
"fields": [],
"capabilities": "Image,Metadata,Mensuration",
"defaultMosaicMethod": "Center",
"allowedMosaicMethods": "",
"sortField": "",
"sortValue": null,
"sortAscending": true,
"mosaicOperator": "First",
"defaultCompressionQuality": 75,
"defaultResamplingMethod": "Bilinear",
"maxImageHeight": 4100,
"maxImageWidth": 15000,
"allowRasterFunction": true,
"rasterFunctionInfos": [
{
"name": "None",
"description": "",
"help": ""
}
],
"rasterTypeInfos": [
{
"name": "Raster Dataset",
"description": "Supports all ArcGIS Raster Datasets",
"help": ""
}
],
"mensurationCapabilities": "Basic",
"hasHistograms": true,
"hasColormap": false,
"hasRasterAttributeTable": false,
"minScale": 0,
"maxScale": 0,
"exportTilesAllowed": false,
"supportsStatistics": false,
"supportsAdvancedQueries": false,
"editFieldsInfo": null,
"ownershipBasedAccessControlForRasters": null,
"allowComputeTiePoints": false,
"useStandardizedQueries": true,
"advancedQueryCapabilities": {
"useStandardizedQueries": true,
"supportsStatistics": false,
"supportsOrderBy": false,
"supportsDistinct": false,
"supportsPagination": false
},
"spatialReference": {
"wkid": 103191,
"latestWkid": 6609
}
}