<?xml version="1.0" encoding="UTF-8" standalone="no"?>
<metadata>
<Esri>
<CreaDate>20101104</CreaDate>
<CreaTime>20241200</CreaTime>
<SyncOnce>FALSE</SyncOnce>
<DataProperties>
<itemProps>
<itemName Sync="TRUE">DSM_2010_5FT</itemName>
<imsContentType>002</imsContentType>
<nativeExtBox>
<westBL Sync="TRUE">2484587.966683</westBL>
<eastBL Sync="TRUE">2552027.966683</eastBL>
<southBL Sync="TRUE">313055.220004</southBL>
<northBL Sync="TRUE">441920.220004</northBL>
<exTypeCode Sync="TRUE">1</exTypeCode>
</nativeExtBox>
</itemProps>
<coordRef>
<type Sync="TRUE">Projected</type>
<geogcsn Sync="TRUE">GCS_NAD_1983_2011</geogcsn>
<csUnits Sync="TRUE">Linear Unit: Foot_US (0.304801)</csUnits>
<projcsn Sync="TRUE">NAD_1983_2011_StatePlane_Wisconsin_South_FIPS_4803_Ft_US</projcsn>
<peXml Sync="TRUE">&lt;ProjectedCoordinateSystem xsi:type='typens:ProjectedCoordinateSystem' xmlns:xsi='http://www.w3.org/2001/XMLSchema-instance' xmlns:xs='http://www.w3.org/2001/XMLSchema' xmlns:typens='http://www.esri.com/schemas/ArcGIS/10.7'&gt;&lt;WKT&gt;PROJCS[&amp;quot;NAD_1983_2011_StatePlane_Wisconsin_South_FIPS_4803_Ft_US&amp;quot;,GEOGCS[&amp;quot;GCS_NAD_1983_2011&amp;quot;,DATUM[&amp;quot;D_NAD_1983_2011&amp;quot;,SPHEROID[&amp;quot;GRS_1980&amp;quot;,6378137.0,298.257222101]],PRIMEM[&amp;quot;Greenwich&amp;quot;,0.0],UNIT[&amp;quot;Degree&amp;quot;,0.0174532925199433]],PROJECTION[&amp;quot;Lambert_Conformal_Conic&amp;quot;],PARAMETER[&amp;quot;False_Easting&amp;quot;,1968500.0],PARAMETER[&amp;quot;False_Northing&amp;quot;,0.0],PARAMETER[&amp;quot;Central_Meridian&amp;quot;,-90.0],PARAMETER[&amp;quot;Standard_Parallel_1&amp;quot;,42.73333333333333],PARAMETER[&amp;quot;Standard_Parallel_2&amp;quot;,44.06666666666667],PARAMETER[&amp;quot;Latitude_Of_Origin&amp;quot;,42.0],UNIT[&amp;quot;Foot_US&amp;quot;,0.3048006096012192],AUTHORITY[&amp;quot;EPSG&amp;quot;,6609]]&lt;/WKT&gt;&lt;XOrigin&gt;-118121300&lt;/XOrigin&gt;&lt;YOrigin&gt;-97418300&lt;/YOrigin&gt;&lt;XYScale&gt;37501932.948264509&lt;/XYScale&gt;&lt;ZOrigin&gt;-100000&lt;/ZOrigin&gt;&lt;ZScale&gt;10000&lt;/ZScale&gt;&lt;MOrigin&gt;-100000&lt;/MOrigin&gt;&lt;MScale&gt;10000&lt;/MScale&gt;&lt;XYTolerance&gt;0.0032808333333333331&lt;/XYTolerance&gt;&lt;ZTolerance&gt;0.001&lt;/ZTolerance&gt;&lt;MTolerance&gt;0.001&lt;/MTolerance&gt;&lt;HighPrecision&gt;true&lt;/HighPrecision&gt;&lt;WKID&gt;103191&lt;/WKID&gt;&lt;LatestWKID&gt;6609&lt;/LatestWKID&gt;&lt;/ProjectedCoordinateSystem&gt;</peXml>
</coordRef>
</DataProperties>
<SyncDate>20220330</SyncDate>
<SyncTime>12365500</SyncTime>
<ModDate>20220330</ModDate>
<ModTime>12365500</ModTime>
<MetaID>{4962EC49-DD17-4141-94DF-F0FBDCA2E0E5}</MetaID>
<scaleRange>
<minScale>150000000</minScale>
<maxScale>5000</maxScale>
</scaleRange>
<ArcGISProfile>ItemDescription</ArcGISProfile>
</Esri>
<idinfo>
<native Sync="FALSE">ESRI ArcCatalog 9.3.1.3500</native>
<descript>
<langdata Sync="TRUE">en</langdata>
<abstract>2010 Lidar Data Products for the Milwaukee, WI collection area. ESRI Multipoints and Terrain for the Bare Earth lidar points, Hydro and Transportation Breaklines, 5ft DEM, 1ft Contours tiled to manage file size, Voids &gt;= 10 sq meters, Percent Slope, Degree Slope, 5ft Digital Surface Model (DSM), 5ft nDSM (Height Above Ground raster), Tiled Intensity Rasters.</abstract>
<purpose>2010 Lidar Data Products for the Milwaukee, WI collection area. ESRI Multipoints and Terrain for the Bare Earth lidar points, Hydro and Transportation Breaklines, 5ft DEM, 1ft Contours tiled to manage file size, Voids &gt;= 10 sq meters, Percent Slope, Degree Slope, 5ft Digital Surface Model (DSM), 5ft nDSM (Height Above Ground raster), Tiled Intensity Rasters.</purpose>
</descript>
<citation>
<citeinfo>
<origin>Karen Kwasnowski</origin>
<pubdate>11042010</pubdate>
<title Sync="TRUE">DSM_2010_5FT</title>
<geoform Sync="TRUE">vector digital data</geoform>
<ftname Sync="TRUE">ContourTiles_001_032</ftname>
<onlink Sync="FALSE">withheld</onlink>
</citeinfo>
</citation>
<timeperd>
<current>REQUIRED: The basis on which the time period of content information is determined.</current>
<timeinfo>
<sngdate>
<caldate>November 2010</caldate>
</sngdate>
</timeinfo>
</timeperd>
<status>
<progress>Complete</progress>
<update>None planned</update>
</status>
<spdom>
<bounding>
<westbc Sync="TRUE">-88.065311</westbc>
<eastbc Sync="TRUE">-87.879920</eastbc>
<northbc Sync="TRUE">43.196035</northbc>
<southbc Sync="TRUE">43.160110</southbc>
</bounding>
<lboundng>
<leftbc Sync="TRUE">2516137.020672</leftbc>
<rightbc Sync="TRUE">2565313.354479</rightbc>
<bottombc Sync="TRUE">430001.167537</bottombc>
<topbc Sync="TRUE">441902.499837</topbc>
</lboundng>
</spdom>
<keywords>
<theme>
<themekt>REQUIRED: Reference to a formally registered thesaurus or a similar authoritative source of theme keywords.</themekt>
<themekey>Lidar</themekey>
<themekey>Elevation</themekey>
<themekey>DEM</themekey>
<themekey>Contours</themekey>
<themekey>Voids</themekey>
<themekey>Slope</themekey>
<themekey>Digital Surface Model</themekey>
<themekey>DSM</themekey>
<themekey>Breaklines</themekey>
</theme>
</keywords>
<accconst>REQUIRED: Restrictions and legal prerequisites for accessing the data set.</accconst>
<useconst>REQUIRED: Restrictions and legal prerequisites for using the data set after access is granted.</useconst>
<natvform Sync="TRUE">File Geodatabase Feature Class</natvform>
<ptcontac>
<cntinfo>
<cntperp>
<cntper>Thom Salter</cntper>
<cntorg>Pictometry International Corp</cntorg>
</cntperp>
<cntpos>Senior Photogrammetric Engineer</cntpos>
<cntaddr>
<addrtype>mailing and physical address</addrtype>
<address>100 Town Centre Drive, Suite A</address>
<city>Rochester</city>
<state>NY</state>
<postal>14623</postal>
<country>US</country>
</cntaddr>
<cntvoice>585.486.0093</cntvoice>
<cntfax>585.486.0098</cntfax>
<cntemail>thom.salter@pictometry.com</cntemail>
</cntinfo>
</ptcontac>
</idinfo>
<dataIdInfo>
<envirDesc Sync="TRUE"> Version 6.2 (Build 9200) ; Esri ArcGIS 10.7.1.11595</envirDesc>
<dataLang>
<languageCode Sync="TRUE" value="eng">
</languageCode>
<countryCode Sync="TRUE" value="USA">
</countryCode>
</dataLang>
<idCitation>
<resTitle Sync="FALSE">dsm_2010</resTitle>
<presForm>
<PresFormCd Sync="TRUE" value="011">
</PresFormCd>
</presForm>
</idCitation>
<spatRpType>
<SpatRepTypCd Sync="TRUE" value="002">
</SpatRepTypCd>
</spatRpType>
<dataExt>
<geoEle>
<GeoBndBox esriExtentType="native">
<westBL Sync="TRUE">2516137.020672</westBL>
<eastBL Sync="TRUE">2565313.354479</eastBL>
<northBL Sync="TRUE">441902.499837</northBL>
<southBL Sync="TRUE">430001.167537</southBL>
<exTypeCode Sync="TRUE">1</exTypeCode>
</GeoBndBox>
</geoEle>
</dataExt>
<geoBox esriExtentType="decdegrees">
<westBL Sync="TRUE">-88.065311</westBL>
<eastBL Sync="TRUE">-87.87992</eastBL>
<northBL Sync="TRUE">43.196035</northBL>
<southBL Sync="TRUE">43.16011</southBL>
<exTypeCode Sync="TRUE">1</exTypeCode>
</geoBox>
<dataExt>
<geoEle>
<GeoBndBox esriExtentType="search">
<exTypeCode Sync="TRUE">1</exTypeCode>
<westBL Sync="TRUE">-88.075555</westBL>
<eastBL Sync="TRUE">-87.811578</eastBL>
<northBL Sync="TRUE">43.196071</northBL>
<southBL Sync="TRUE">42.838041</southBL>
</GeoBndBox>
</geoEle>
</dataExt>
<idPurp>2010 Lidar Data Products for the Milwaukee, WI collection area. ESRI Multipoints and Terrain for the Bare Earth lidar points, Hydro and Transportation Breaklines, 5ft DEM, 1ft Contours tiled to manage file size, Voids &amp;gt;= 10 sq meters, Percent Slope, Degree Slope, 5ft Digital Surface Model (DSM), 5ft nDSM (Height Above Ground raster), Tiled Intensity Rasters.</idPurp>
<idAbs>&lt;div style='text-align:Left;'&gt;&lt;div&gt;&lt;div&gt;&lt;p&gt;&lt;span&gt;2010 Lidar Data Products for the Milwaukee, WI collection area. ESRI Multipoints and Terrain for the Bare Earth lidar points, Hydro and Transportation Breaklines, 5ft DEM, 1ft Contours tiled to manage file size, Voids &amp;gt;= 10 sq meters, Percent Slope, Degree Slope, 5ft Digital Surface Model (DSM), 5ft nDSM (Height Above Ground raster), Tiled Intensity Rasters.&lt;/span&gt;&lt;/p&gt;&lt;/div&gt;&lt;/div&gt;&lt;/div&gt;</idAbs>
<idCredit>Milwaukee County Land Information Office</idCredit>
<searchKeys>
<keyword>Lidar</keyword>
<keyword>Elevation</keyword>
<keyword>DEM</keyword>
<keyword>Contours</keyword>
<keyword>Voids</keyword>
<keyword>Slope</keyword>
<keyword>Digital Surface Model</keyword>
<keyword>DSM</keyword>
<keyword>Breaklines</keyword>
</searchKeys>
<resConst>
<Consts>
<useLimit/>
</Consts>
</resConst>
</dataIdInfo>
<metainfo>
<langmeta Sync="TRUE">en</langmeta>
<metstdn Sync="TRUE">FGDC Content Standards for Digital Geospatial Metadata</metstdn>
<metstdv Sync="TRUE">FGDC-STD-001-1998</metstdv>
<mettc Sync="TRUE">local time</mettc>
<metd Sync="TRUE">20101104</metd>
</metainfo>
<mdLang>
<languageCode Sync="TRUE" value="eng">
</languageCode>
<countryCode Sync="TRUE" value="USA">
</countryCode>
</mdLang>
<mdChar>
<CharSetCd Sync="TRUE" value="004">
</CharSetCd>
</mdChar>
<mdHrLv>
<ScopeCd Sync="TRUE" value="005">
</ScopeCd>
</mdHrLv>
<mdHrLvName Sync="TRUE">dataset</mdHrLvName>
<distInfo>
<distributor>
<distorTran>
<onLineSrc>
<orDesc Sync="TRUE">002</orDesc>
<linkage Sync="FALSE">withheld</linkage>
<protocol Sync="TRUE">Local Area Network</protocol>
</onLineSrc>
</distorTran>
<distorFormat>
<formatName Sync="TRUE">File Geodatabase Feature Class</formatName>
</distorFormat>
</distributor>
<distFormat>
<formatName Sync="TRUE">File Geodatabase Raster Dataset</formatName>
</distFormat>
</distInfo>
<spdoinfo>
<ptvctinf>
<esriterm Name="ContourTiles_001_032">
<efeatyp Sync="TRUE">Simple</efeatyp>
<efeageom Sync="TRUE">Polyline</efeageom>
<esritopo Sync="TRUE">FALSE</esritopo>
<efeacnt Sync="TRUE">30804</efeacnt>
<spindex Sync="TRUE">TRUE</spindex>
<linrefer Sync="TRUE">FALSE</linrefer>
</esriterm>
<sdtsterm Name="ContourTiles_001_032">
<sdtstype Sync="TRUE">String</sdtstype>
<ptvctcnt Sync="TRUE">30804</ptvctcnt>
</sdtsterm>
</ptvctinf>
<direct Sync="TRUE">Vector</direct>
<rastinfo>
<rasttype Sync="TRUE">Pixel</rasttype>
<rowcount Sync="TRUE">25773</rowcount>
<colcount Sync="TRUE">13488</colcount>
<rastxsz Sync="TRUE">5.000000</rastxsz>
<rastysz Sync="TRUE">5.000000</rastysz>
<rastbpp Sync="TRUE">32</rastbpp>
<vrtcount Sync="TRUE">1</vrtcount>
<rastorig Sync="TRUE">Upper Left</rastorig>
<rastcmap Sync="TRUE">FALSE</rastcmap>
<rastcomp Sync="TRUE">LZ77</rastcomp>
<rastband Sync="TRUE">1</rastband>
<rastdtyp Sync="TRUE">pixel codes</rastdtyp>
<rastifor Sync="TRUE">FGDBR</rastifor>
<rastplyr Sync="TRUE">TRUE</rastplyr>
</rastinfo>
</spdoinfo>
<spref>
<horizsys>
<cordsysn>
<geogcsn Sync="TRUE">GCS_North_American_1927</geogcsn>
<projcsn Sync="TRUE">NAD_1927_StatePlane_Wisconsin_South_FIPS_4803</projcsn>
</cordsysn>
<planar>
<planci>
<plance Sync="TRUE">row and column</plance>
<plandu Sync="TRUE">survey feet</plandu>
<coordrep>
<absres Sync="TRUE">5.000000</absres>
<ordres Sync="TRUE">5.000000</ordres>
</coordrep>
</planci>
</planar>
<geodetic>
<horizdn Sync="TRUE">North American Datum of 1927</horizdn>
<ellips Sync="TRUE">Clarke 1866</ellips>
<semiaxis Sync="TRUE">6378206.400000</semiaxis>
<denflat Sync="TRUE">294.978698</denflat>
</geodetic>
</horizsys>
<vertdef>
<altsys>
<altdatum>North American Vertical Datum of 1988</altdatum>
<altunits>feet</altunits>
</altsys>
</vertdef>
</spref>
<refSysInfo>
<RefSystem>
<refSysID>
<identCode Sync="TRUE" code="6609" value="32054">NAD_1927_StatePlane_Wisconsin_South_FIPS_4803</identCode>
<idCodeSpace Sync="TRUE">EPSG</idCodeSpace>
<idVersion Sync="TRUE">8.9.3(10.3.1)</idVersion>
</refSysID>
</RefSystem>
</refSysInfo>
<mdDateSt Sync="TRUE">20220330</mdDateSt>
<dataqual>
<lineage>
<procstep>
<proccont>
<cntinfo>
<cntperp>
<cntper>Karen Kwasnowski</cntper>
<cntorg>GroundPoint Technologies LLC</cntorg>
</cntperp>
<cntpos>Chief Technical Officer</cntpos>
<cntvoice>315.833.9389</cntvoice>
<cntemail>kkwasnowski@groundpointllc.com</cntemail>
</cntinfo>
</proccont>
<procdesc>Terrain, DEM, Slope, and 1ft Contours:For the Bare Earth Data, the Lidar Data was converted to a Multipoint feature class, with a filter for Ground (class 2). Breaklines were created from the Milwaukee planimetric data that was provided by the customer for hydrographic and transportation features. All hydrographic features, including water bodies and streams, and transportation features (including edge of road and road centerline) were exported from the planimetric data and elevation values from the lidar data were conflated to the “z-values” of the features. The original z-values of the planimetric data were checked to see if they matched the lidar data and in all spot checks the elevation values did not match close enough to be used as breakline values for the lidar products. Elevation values were conflated to the transportation lines at 10ft intervals from the lidar data using QCoherent’s LP360 software. Elevation values were conflated to the Single Line Stream Breaklines at 10ft intervals with an downstream constraint algorithm. After the single line streams were conflated, a script was used to copy the elevation values from the single line streams to the surrounding double line stream polygons. Elevation values for the water body polygons were added as an attribute to the feature class based on the minimum lidar elevation value along the shoreline of the water body. The multipoint feature class, water bodies, hydrolines, and transportation lines were used to create a bare earth terrain for the collection area. The terrain was converted to a DEM with 5ft cell resolution. Percent Slope and Degree Slope were created from the DEM. The DEM was smoothed using a 3x3 rectangular focalmean algorithm to create the 1ft tiled contours. The contours were edited in the following manner: Lines shorter than 30 ft were deleted, looped contour lines in water ways were deleted, the shape of contour lines along the edge of water ways were edited where the lines wove more than half way across the waterway, contour lines in water bodies were checked and deleted if loops occured within the water. Attributes were also added for 2ft, 10ft, 20ft, and 50ft Index contours. A Lidar Tile Index Feature Class was also created for the original lidar files.Voids: FEMA defines data voids as areas that are not within two times the DEM posting of data points, which equates to 10m for the 2ft contour interval accuracy standard. Data voids are acceptable over bodies of water or where points have been removed over man-made structures. Data voids are not acceptable with LiDAR system malfunction or flight error. Data voids need to be flagged in areas where LiDAR points have been removed due to dense vegetation. If the data voids in areas of dense vegetation are less than 1 acre then the voids may usually be filled by interpolation. If the data voids are greater than 1 acre then cross sections must be cut to fill the void areas. The Bare Earth Multipoint feature class was converted to raster with a 30ft cell size. The raster was reclassified as NoData: 1 and Any_Value: NoData. The reclassified raster was converted to polygon. Polygons &lt; 1076 sq feet were deleted. Attributes were added for ‘Acreage” and “LandCover”. No voids were found to be due to vegetation removal. Digital Surface Model (DSM): For the DSM, the Lidar Point Data was exported to multipoint format, with a filter for 1st return data only, and a maximum elevation of 300 ft higher than the highest ground point. The multipoints were used to create a 1st return terrain, which was then exported to a 1st surface DSM with 5ft cell resolution. A Hillshade was created using default illumination parameters in ESRI software. The Bare Earth DEM was subtracted from the DSM (making sure the cells aligned properly with one another) to produce a normalized DSM (nDSM), which is a raster comprised of heights above ground. Intensity Rasters: The Intensity Rasters of the All Points data were created with a 2ft cell size, which was determined to be the average post spacing of the point cloud. Again LP360 software was used for this procedure with every effort made to interpolate across voids.</procdesc>
<procsv>ArcGIS 9.3.1</procsv>
<procdate>November 2010</procdate>
</procstep>
<procstep>
<procdesc Sync="TRUE">Metadata imported.</procdesc>
<srcused Sync="FALSE">withheld</srcused>
<procdate Sync="TRUE">20101104</procdate>
<proctime Sync="TRUE">20241200</proctime>
</procstep>
</lineage>
</dataqual>
<distinfo>
<resdesc Sync="TRUE">Downloadable Data</resdesc>
</distinfo>
<spatRepInfo>
<VectSpatRep>
<topLvl>
<TopoLevCd Sync="TRUE" value="001">
</TopoLevCd>
</topLvl>
<geometObjs Name="ContourTiles_001_032">
<geoObjTyp>
<GeoObjTypCd Sync="TRUE" value="001">
</GeoObjTypCd>
</geoObjTyp>
<geoObjCnt Sync="TRUE">30804</geoObjCnt>
</geometObjs>
</VectSpatRep>
</spatRepInfo>
<eainfo>
<detailed Name="ContourTiles_001_032">
<enttyp>
<enttypl Sync="TRUE">ContourTiles_001_032</enttypl>
<enttypt Sync="TRUE">Feature Class</enttypt>
<enttypc Sync="TRUE">30804</enttypc>
</enttyp>
<attr>
<attrlabl Sync="TRUE">OBJECTID</attrlabl>
<attalias Sync="TRUE">OBJECTID</attalias>
<attrtype Sync="TRUE">OID</attrtype>
<attwidth Sync="TRUE">4</attwidth>
<atprecis Sync="TRUE">0</atprecis>
<attscale Sync="TRUE">0</attscale>
<attrdef Sync="TRUE">Internal feature number.</attrdef>
<attrdefs Sync="TRUE">ESRI</attrdefs>
<attrdomv>
<udom Sync="TRUE">Sequential unique whole numbers that are automatically generated.</udom>
</attrdomv>
</attr>
<attr>
<attrlabl Sync="TRUE">Shape</attrlabl>
<attalias Sync="TRUE">Shape</attalias>
<attrtype Sync="TRUE">Geometry</attrtype>
<attwidth Sync="TRUE">0</attwidth>
<atprecis Sync="TRUE">0</atprecis>
<attscale Sync="TRUE">0</attscale>
<attrdef Sync="TRUE">Feature geometry.</attrdef>
<attrdefs Sync="TRUE">ESRI</attrdefs>
<attrdomv>
<udom Sync="TRUE">Coordinates defining the features.</udom>
</attrdomv>
</attr>
<attr>
<attrlabl Sync="TRUE">ID</attrlabl>
<attalias Sync="TRUE">ID</attalias>
<attrtype Sync="TRUE">Double</attrtype>
<attwidth Sync="TRUE">8</attwidth>
<atprecis Sync="TRUE">0</atprecis>
<attscale Sync="TRUE">0</attscale>
</attr>
<attr>
<attrlabl Sync="TRUE">CONTOUR</attrlabl>
<attalias Sync="TRUE">CONTOUR</attalias>
<attrtype Sync="TRUE">Double</attrtype>
<attwidth Sync="TRUE">8</attwidth>
<atprecis Sync="TRUE">0</atprecis>
<attscale Sync="TRUE">0</attscale>
</attr>
<attr>
<attrlabl Sync="TRUE">Shape_Length</attrlabl>
<attalias Sync="TRUE">Shape_Length</attalias>
<attrtype Sync="TRUE">Double</attrtype>
<attwidth Sync="TRUE">8</attwidth>
<atprecis Sync="TRUE">0</atprecis>
<attscale Sync="TRUE">0</attscale>
<attrdef Sync="TRUE">Length of feature in internal units.</attrdef>
<attrdefs Sync="TRUE">ESRI</attrdefs>
<attrdomv>
<udom Sync="TRUE">Positive real numbers that are automatically generated.</udom>
</attrdomv>
</attr>
<attr>
<attrlabl Sync="TRUE">Index2ft</attrlabl>
<attalias Sync="TRUE">Index2ft</attalias>
<attrtype Sync="TRUE">SmallInteger</attrtype>
<attwidth Sync="TRUE">2</attwidth>
<atprecis Sync="TRUE">0</atprecis>
<attscale Sync="TRUE">0</attscale>
</attr>
<attr>
<attrlabl Sync="TRUE">Index10ft</attrlabl>
<attalias Sync="TRUE">Index10ft</attalias>
<attrtype Sync="TRUE">SmallInteger</attrtype>
<attwidth Sync="TRUE">2</attwidth>
<atprecis Sync="TRUE">0</atprecis>
<attscale Sync="TRUE">0</attscale>
</attr>
<attr>
<attrlabl Sync="TRUE">Index20ft</attrlabl>
<attalias Sync="TRUE">Index20ft</attalias>
<attrtype Sync="TRUE">SmallInteger</attrtype>
<attwidth Sync="TRUE">2</attwidth>
<atprecis Sync="TRUE">0</atprecis>
<attscale Sync="TRUE">0</attscale>
</attr>
<attr>
<attrlabl Sync="TRUE">Index50ft</attrlabl>
<attalias Sync="TRUE">Index50ft</attalias>
<attrtype Sync="TRUE">SmallInteger</attrtype>
<attwidth Sync="TRUE">2</attwidth>
<atprecis Sync="TRUE">0</atprecis>
<attscale Sync="TRUE">0</attscale>
</attr>
</detailed>
</eainfo>
</metadata>
