{
 "currentVersion": 11.2,
 "serviceDescription": "2024 aerial imagery covering Milwaukee County, WI. Captured March 2024",
 "name": "aerial/ortho_2024",
 "description": "2024 aerial imagery covering Milwaukee County, WI. Captured March 2024",
 "extent": {
  "xmin": 2484402,
  "ymin": 312858,
  "xmax": 2552600,
  "ymax": 442060,
  "spatialReference": {
   "wkid": 103191,
   "latestWkid": 6609
  }
 },
 "initialExtent": {
  "xmin": 2484402,
  "ymin": 312858,
  "xmax": 2552600,
  "ymax": 442060,
  "spatialReference": {
   "wkid": 103191,
   "latestWkid": 6609
  }
 },
 "fullExtent": {
  "xmin": 2484402,
  "ymin": 312858,
  "xmax": 2552600,
  "ymax": 442060,
  "spatialReference": {
   "wkid": 103191,
   "latestWkid": 6609
  }
 },
 "sortableFields": "",
 "bandCount": 4,
 "pixelType": "U8",
 "minValues": [
  20,
  25,
  22,
  0
 ],
 "maxValues": [
  255,
  255,
  255,
  255
 ],
 "meanValues": [
  134.47739342615,
  124.55676761877,
  103.76991531506,
  203.31860383124
 ],
 "stdvValues": [
  27.125569049571,
  26.997682888647,
  28.689595524873,
  101.28590735824
 ],
 "hasMultidimensions": false,
 "pixelSizeX": 0.25,
 "pixelSizeY": 0.25,
 "meanPixelSize": 0.07620015240030481,
 "datasetFormat": "MrSID",
 "uncompressedSize": 563924351744,
 "blockWidth": 1024,
 "blockHeight": 128,
 "compressionType": "Wavelet (MG4)",
 "bandNames": [
  "Band_1",
  "Band_2",
  "Band_3",
  "Band_4"
 ],
 "allowCopy": true,
 "allowAnalysis": true,
 "itemAccess": false,
 "inspectionCapabilities": "",
 "minPixelSize": 0,
 "maxPixelSize": 0,
 "copyrightText": "",
 "serviceDataType": "esriImageServiceDataTypeGeneric",
 "serviceSourceType": "esriImageServiceSourceTypeDataset",
 "objectIdField": "",
 "fields": [],
 "capabilities": "Mensuration,Image,Metadata",
 "defaultMosaicMethod": "Center",
 "allowedMosaicMethods": "",
 "sortField": "",
 "sortValue": null,
 "sortAscending": true,
 "mosaicOperator": "First",
 "defaultCompressionQuality": 75,
 "defaultResamplingMethod": "Bilinear",
 "maxImageHeight": 4100,
 "maxImageWidth": 15000,
 "allowRasterFunction": true,
 "rasterFunctionInfos": [
  {
   "name": "None",
   "description": "",
   "help": ""
  }
 ],
 "rasterTypeInfos": [
  {
   "name": "Raster Dataset",
   "description": "Supports all ArcGIS Raster Datasets",
   "help": ""
  }
 ],
 "mensurationCapabilities": "Basic",
 "hasHistograms": true,
 "hasColormap": false,
 "hasRasterAttributeTable": false,
 "minScale": 0,
 "maxScale": 0,
 "exportTilesAllowed": false,
 "supportsStatistics": false,
 "supportsAdvancedQueries": false,
 "editFieldsInfo": null,
 "ownershipBasedAccessControlForRasters": null,
 "allowComputeTiePoints": false,
 "useStandardizedQueries": true,
 "advancedQueryCapabilities": {
  "useStandardizedQueries": true,
  "supportsStatistics": false,
  "supportsOrderBy": false,
  "supportsDistinct": false,
  "supportsPagination": false
 },
 "spatialReference": {
  "wkid": 103191,
  "latestWkid": 6609
 },
 "resampling": false
}
