{
 "currentVersion": 11.2,
 "serviceDescription": "aerial/ortho_2020",
 "name": "aerial/ortho_2020",
 "description": "",
 "extent": {
  "xmin": 2475000.000159055,
  "ymin": 310000.0000426471,
  "xmax": 2555000.000159055,
  "ymax": 445000.0000426471,
  "spatialReference": {
   "wkid": 103191,
   "latestWkid": 6609
  }
 },
 "initialExtent": {
  "xmin": 2475000.000159055,
  "ymin": 310000.0000426471,
  "xmax": 2555000.000159055,
  "ymax": 445000.0000426471,
  "spatialReference": {
   "wkid": 103191,
   "latestWkid": 6609
  }
 },
 "fullExtent": {
  "xmin": 2475000.000159055,
  "ymin": 310000.0000426471,
  "xmax": 2555000.000159055,
  "ymax": 445000.0000426471,
  "spatialReference": {
   "wkid": 103191,
   "latestWkid": 6609
  }
 },
 "sortableFields": "",
 "bandCount": 4,
 "pixelType": "U8",
 "minValues": [
  0,
  0,
  0,
  0
 ],
 "maxValues": [
  210,
  227,
  187,
  255
 ],
 "meanValues": [
  104.66401515152,
  97.70303030303,
  77.048484848485,
  202.83446969697
 ],
 "stdvValues": [
  58.26996660477,
  51.849867682532,
  41.560041423931,
  101.89617164883
 ],
 "hasMultidimensions": false,
 "pixelSizeX": 0.25,
 "pixelSizeY": 0.25,
 "meanPixelSize": 0.07620015240030481,
 "datasetFormat": "MrSID",
 "uncompressedSize": 691200000000,
 "blockWidth": 1024,
 "blockHeight": 128,
 "compressionType": "Wavelet (MG4)",
 "bandNames": [
  "Band_1",
  "Band_2",
  "Band_3",
  "Band_4"
 ],
 "allowCopy": true,
 "allowAnalysis": true,
 "itemAccess": false,
 "inspectionCapabilities": "",
 "minPixelSize": 0,
 "maxPixelSize": 0,
 "copyrightText": "",
 "serviceDataType": "esriImageServiceDataTypeProcessed",
 "serviceSourceType": "esriImageServiceSourceTypeDataset",
 "objectIdField": "",
 "fields": [],
 "capabilities": "Image,Metadata,Mensuration",
 "defaultMosaicMethod": "Center",
 "allowedMosaicMethods": "",
 "sortField": "",
 "sortValue": null,
 "sortAscending": true,
 "mosaicOperator": "First",
 "defaultCompressionQuality": 75,
 "defaultResamplingMethod": "Bilinear",
 "maxImageHeight": 4100,
 "maxImageWidth": 15000,
 "allowRasterFunction": true,
 "rasterFunctionInfos": [
  {
   "name": "None",
   "description": "",
   "help": ""
  }
 ],
 "rasterTypeInfos": [
  {
   "name": "Raster Dataset",
   "description": "Supports all ArcGIS Raster Datasets",
   "help": ""
  }
 ],
 "mensurationCapabilities": "Basic",
 "hasHistograms": true,
 "hasColormap": false,
 "hasRasterAttributeTable": false,
 "minScale": 0,
 "maxScale": 0,
 "exportTilesAllowed": false,
 "supportsStatistics": false,
 "supportsAdvancedQueries": false,
 "editFieldsInfo": null,
 "ownershipBasedAccessControlForRasters": null,
 "allowComputeTiePoints": false,
 "useStandardizedQueries": true,
 "advancedQueryCapabilities": {
  "useStandardizedQueries": true,
  "supportsStatistics": false,
  "supportsOrderBy": false,
  "supportsDistinct": false,
  "supportsPagination": false
 },
 "spatialReference": {
  "wkid": 103191,
  "latestWkid": 6609
 }
}
