{ "currentVersion": 11.2, "serviceDescription": "
greyscale ortho-rectified vertical aerial photography covering Milwaukee County Wisconsin - captured March-April 2000 - resolution of 12 inches per pixel - see https://maps.sewrpc.org/regionallandinfo/metadata/2000_Orthophotography.htm for full details<\/SPAN><\/P><\/DIV><\/DIV><\/DIV>",
"name": "aerial/ortho_2000",
"description": " greyscale ortho-rectified vertical aerial photography covering Milwaukee County Wisconsin - captured March-April 2000 - resolution of 12 inches per pixel - see https://maps.sewrpc.org/regionallandinfo/metadata/2000_Orthophotography.htm for full details<\/SPAN><\/P><\/DIV><\/DIV><\/DIV>",
"extent": {
"xmin": 2483462.304128766,
"ymin": 310009.72308190167,
"xmax": 2553466.304128766,
"ymax": 455008.72308190167,
"spatialReference": {
"wkid": 103191,
"latestWkid": 6609
}
},
"initialExtent": {
"xmin": 2483462.304128766,
"ymin": 310009.72308190167,
"xmax": 2553466.304128766,
"ymax": 455008.72308190167,
"spatialReference": {
"wkid": 103191,
"latestWkid": 6609
}
},
"fullExtent": {
"xmin": 2483462.304128766,
"ymin": 310009.72308190167,
"xmax": 2553466.304128766,
"ymax": 455008.72308190167,
"spatialReference": {
"wkid": 103191,
"latestWkid": 6609
}
},
"sortableFields": "",
"bandCount": 1,
"pixelType": "U8",
"minValues": [
0
],
"maxValues": [
255
],
"meanValues": [
129.74616140137658
],
"stdvValues": [
45.84505458457435
],
"hasMultidimensions": false,
"pixelSizeX": 1,
"pixelSizeY": 1,
"meanPixelSize": 0.30480060960121924,
"datasetFormat": "FGDBR",
"uncompressedSize": 10150509996,
"blockWidth": 128,
"blockHeight": 128,
"compressionType": "NONE",
"bandNames": [
"Band_1"
],
"allowCopy": true,
"allowAnalysis": true,
"itemAccess": false,
"inspectionCapabilities": "",
"minPixelSize": 0,
"maxPixelSize": 0,
"copyrightText": "Milwaukee County GIS & Land Information; Ayres Associates, Inc.; Southeastern Wisconsin Regional Planning Commission (SEWRPC)",
"serviceDataType": "esriImageServiceDataTypeGeneric",
"serviceSourceType": "esriImageServiceSourceTypeDataset",
"objectIdField": "",
"fields": [],
"capabilities": "Image,Metadata,Mensuration",
"defaultMosaicMethod": "Center",
"allowedMosaicMethods": "",
"sortField": "",
"sortValue": null,
"sortAscending": true,
"mosaicOperator": "First",
"defaultCompressionQuality": 75,
"defaultResamplingMethod": "Bilinear",
"maxImageHeight": 4100,
"maxImageWidth": 15000,
"allowRasterFunction": true,
"rasterFunctionInfos": [
{
"name": "None",
"description": "",
"help": ""
}
],
"rasterTypeInfos": [
{
"name": "Raster Dataset",
"description": "Supports all ArcGIS Raster Datasets",
"help": ""
}
],
"mensurationCapabilities": "Basic",
"hasHistograms": true,
"hasColormap": false,
"hasRasterAttributeTable": false,
"minScale": 0,
"maxScale": 0,
"exportTilesAllowed": false,
"supportsStatistics": false,
"supportsAdvancedQueries": false,
"editFieldsInfo": null,
"ownershipBasedAccessControlForRasters": null,
"allowComputeTiePoints": false,
"useStandardizedQueries": true,
"advancedQueryCapabilities": {
"useStandardizedQueries": true,
"supportsStatistics": false,
"supportsOrderBy": false,
"supportsDistinct": false,
"supportsPagination": false
},
"spatialReference": {
"wkid": 103191,
"latestWkid": 6609
}
}