{
 "currentVersion": 11.2,
 "serviceDescription": "aerial/aerial_1951",
 "name": "aerial/aerial_1951",
 "description": "",
 "extent": {
  "xmin": 2483603.651542634,
  "ymin": 313161.04603007744,
  "xmax": 2551872.9848839375,
  "ymax": 441618.3793784082,
  "spatialReference": {
   "wkid": 103191,
   "latestWkid": 6609
  }
 },
 "initialExtent": {
  "xmin": 2483603.651542634,
  "ymin": 313161.04603007744,
  "xmax": 2551872.9848839375,
  "ymax": 441618.3793784082,
  "spatialReference": {
   "wkid": 103191,
   "latestWkid": 6609
  }
 },
 "fullExtent": {
  "xmin": 2483603.651542634,
  "ymin": 313161.04603007744,
  "xmax": 2551872.9848839375,
  "ymax": 441618.3793784082,
  "spatialReference": {
   "wkid": 103191,
   "latestWkid": 6609
  }
 },
 "sortableFields": "",
 "bandCount": 3,
 "pixelType": "U8",
 "minValues": [],
 "maxValues": [],
 "meanValues": [],
 "stdvValues": [],
 "hasMultidimensions": false,
 "pixelSizeX": 1.3333333334889994,
 "pixelSizeY": 1.3333333334890003,
 "meanPixelSize": 0.4064008128490729,
 "datasetFormat": "FGDBR",
 "uncompressedSize": 14798862858,
 "blockWidth": 128,
 "blockHeight": 128,
 "compressionType": "LZ77",
 "bandNames": [
  "Band_1"
 ],
 "allowCopy": true,
 "allowAnalysis": true,
 "itemAccess": false,
 "inspectionCapabilities": "",
 "noDataValue": 256,
 "noDataValues": [
  256,
  256,
  256
 ],
 "minPixelSize": 0,
 "maxPixelSize": 0,
 "copyrightText": "",
 "serviceDataType": "esriImageServiceDataTypeThematic",
 "serviceSourceType": "esriImageServiceSourceTypeDataset",
 "objectIdField": "",
 "fields": [],
 "capabilities": "Image,Metadata,Mensuration",
 "defaultMosaicMethod": "Center",
 "allowedMosaicMethods": "",
 "sortField": "",
 "sortValue": null,
 "sortAscending": true,
 "mosaicOperator": "First",
 "defaultCompressionQuality": 75,
 "defaultResamplingMethod": "Bilinear",
 "maxImageHeight": 4100,
 "maxImageWidth": 15000,
 "allowRasterFunction": true,
 "rasterFunctionInfos": [
  {
   "name": "None",
   "description": "",
   "help": ""
  }
 ],
 "rasterTypeInfos": [
  {
   "name": "Raster Dataset",
   "description": "Supports all ArcGIS Raster Datasets",
   "help": ""
  }
 ],
 "mensurationCapabilities": "Basic",
 "hasHistograms": false,
 "hasColormap": false,
 "hasRasterAttributeTable": false,
 "minScale": 0,
 "maxScale": 0,
 "exportTilesAllowed": false,
 "supportsStatistics": false,
 "supportsAdvancedQueries": false,
 "editFieldsInfo": null,
 "ownershipBasedAccessControlForRasters": null,
 "allowComputeTiePoints": false,
 "useStandardizedQueries": true,
 "advancedQueryCapabilities": {
  "useStandardizedQueries": true,
  "supportsStatistics": false,
  "supportsOrderBy": false,
  "supportsDistinct": false,
  "supportsPagination": false
 },
 "spatialReference": {
  "wkid": 103191,
  "latestWkid": 6609
 }
}
